BEGIN:VCALENDAR
VERSION:2.0
PRODID:-//EndoIDF - ECPv6.2.0.1//NONSGML v1.0//EN
CALSCALE:GREGORIAN
METHOD:PUBLISH
X-ORIGINAL-URL:https://www.endo-idf.fr
X-WR-CALDESC:évènements pour EndoIDF
REFRESH-INTERVAL;VALUE=DURATION:PT1H
X-Robots-Tag:noindex
X-PUBLISHED-TTL:PT1H
BEGIN:VTIMEZONE
TZID:Europe/Paris
BEGIN:DAYLIGHT
TZOFFSETFROM:+0100
TZOFFSETTO:+0200
TZNAME:CEST
DTSTART:20240331T010000
END:DAYLIGHT
BEGIN:STANDARD
TZOFFSETFROM:+0200
TZOFFSETTO:+0100
TZNAME:CET
DTSTART:20241027T010000
END:STANDARD
BEGIN:DAYLIGHT
TZOFFSETFROM:+0100
TZOFFSETTO:+0200
TZNAME:CEST
DTSTART:20250330T010000
END:DAYLIGHT
BEGIN:STANDARD
TZOFFSETFROM:+0200
TZOFFSETTO:+0100
TZNAME:CET
DTSTART:20251026T010000
END:STANDARD
END:VTIMEZONE
BEGIN:VEVENT
DTSTART;TZID=Europe/Paris:20241202T193000
DTEND;TZID=Europe/Paris:20241202T220000
DTSTAMP:20260424T031959
CREATED:20241112T135039Z
LAST-MODIFIED:20241112T135039Z
UID:123857-1733167800-1733176800@www.endo-idf.fr
SUMMARY:Endométriose & fuites urinaires chez les jeunes femmes : Parlons-en !
DESCRIPTION:[vc_row][vc_column][vc_column_text uncode_shortcode_id=”739788″] \nSoirée de sensibilisation pour les professionnels de santé\nLes fuites urinaires et l’endométriose chez les jeunes femmes : Parlons-en !\n✨ Prévenir les troubles de la statique pelvienne\, notamment chez les sportives.\n✨ Dépister et soigner sans attendre !\n✨ Eduquer les patientes abreuvées d’infos mais pourtant si mal informées. \nRendez vous à Neuilly pour l’intervention d’équipes expertes qui ont fait de ces sujets leurs chevaux de bataille : profitez-en\, venez nombreux ! \nPour la santé pelvi-périnéale : Pr Anne Cécile PIZZOFERRATO\, gynécologue obstétricienne et Julia DEPARIS\, sage-femme enseignante\, du CHU de Poitiers. \nPour la filière Endo Centre-Ouest IdF : Dr Georges BADER et Dr Julien NIRO\, chirurgiens gynécologues du Groupe Hospitalier Privé Ambroise Paré – Hartmann. \nSoirée destinée aux professionnels de santé : médecins généralistes\, gynécologues\, sages femmes\, pharmaciens\, kinésithérapeutes\, psychologues… La soirée est organisée par la CPTS de Neuilly-sur-Seine mais est bien sûr ouverte à tous les professionnels de santé qui pourraient être intéressés\, n’hésitez donc pas à relayer cette invitation autour de vous. \nUn buffet dinatoire vous sera offert et l’inscription est gratuite mais obligatoire. \n[/vc_column_text][vc_button border_width=”0″ link=”url:https%3A%2F%2Flnkd.in%2FeJYhc4ec” uncode_shortcode_id=”109517″]Inscrivez-vous [/vc_button][/vc_column][/vc_row]
URL:https://www.endo-idf.fr/evenement/endometriose-fuites-urinaires-chez-les-jeunes-femmes-parlons-en/
LOCATION:Cliniques Ambroise Paré\, Au 48ter boulevard Victor Hugo\, Neuilly-sur-Seine\, 92200\, France
CATEGORIES:Evénement Pro,Filière Endo Centre-Ouest,Formation
ATTACH;FMTTYPE=image/jpeg:https://www.endo-idf.fr/wp-content/uploads/2024/11/flyers.jpg
ORGANIZER;CN="CPTS%20%20de%20Neuilly%20sur%20Seine":MAILTO:coordinateur@cpts-neuillysurseine.fr
END:VEVENT
BEGIN:VEVENT
DTSTART;TZID=Europe/Paris:20241205T090000
DTEND;TZID=Europe/Paris:20241205T190000
DTSTAMP:20260424T031959
CREATED:20241112T153126Z
LAST-MODIFIED:20241112T153126Z
UID:123869-1733389200-1733425200@www.endo-idf.fr
SUMMARY:Retour vers le futur : la douleur en 2025
DESCRIPTION:[vc_row][vc_column width=”1/1″][vc_column_text uncode_shortcode_id=”716919″] \nRetour vers le futur : la douleur en 2025\nVous êtes médecin ou soignant et souhaitez vous renseigner sur la douleur ? Vous\, ou un proche avez des douleurs chroniques et vous souhaitez vous informer sur le sujet ? \nVous êtes convié par le Groupe Hospitalier Privé Ambroise Paré-Hartmann\, le 5 décembre à son premier congrès de la douleur\, dans sa clinique du 48ter Boulevard Victor Hugo. \nUn savoureux déjeuner sera également servi au cours de cette journée. Cet évènement gratuit est destiné à toute personne souhaitant s’informer sur la douleur. \n📌 Rappelons que\, selon le livre blanc publié par la SFETD en 2017\, plus de 12 millions de Français souffrent de douleurs chroniques\, soit un français sur cinq.[/vc_column_text][vc_button border_width=”0″ link=”url:https%3A%2F%2Fdocs.google.com%2Fforms%2Fd%2F1Jz83UCbgUur0M19l4Pthugtsnt9DYWDkkBpPaysS3Hg%2Fviewform%3Fedit_requested%3Dtrue” uncode_shortcode_id=”205355″]Inscrivez-vous [/vc_button][vc_gallery el_id=”gallery-480401″ medias=”123870\,123871″ gutter_size=”3″ screen_lg=”1000″ screen_md=”600″ screen_sm=”480″ single_overlay_opacity=”50″ single_padding=”2″ uncode_shortcode_id=”116125″][/vc_column][/vc_row]
URL:https://www.endo-idf.fr/evenement/retour-vers-le-futur-la-douleur-en-2025/
LOCATION:Groupe Hospitalier Privé Ambroise Paré-Hartmann\, Neuilly-sur-Seine\, France
CATEGORIES:Congrès,Evénement Patient,Evénement Pro,Formation
ATTACH;FMTTYPE=image/jpeg:https://www.endo-idf.fr/wp-content/uploads/2024/11/congres-douleurs-2024.jpg
END:VEVENT
BEGIN:VEVENT
DTSTART;TZID=Europe/Paris:20241205T183000
DTEND;TZID=Europe/Paris:20241205T200000
DTSTAMP:20260424T031959
CREATED:20241204T124319Z
LAST-MODIFIED:20241205T120719Z
UID:124087-1733423400-1733428800@www.endo-idf.fr
SUMMARY:Réunion de concertation pluridisciplinaire (RCP)
DESCRIPTION:Réunion de concertation pluridisciplinaire (RCP) du centre de l’endométriose de l’Hôpital Paris Saint-Joseph \nPour participer à cette RCP ou pour toute demande d’information\, vous pouvez contacter : Tessa Boisne : endometriose@ghpsj.fr \nNous vous attendons à partir de 18h30 à la salle d’imagerie (à droite en entrant par l’entrée principale) ou en salle de conférence (batiment NDBS porte 10 niveau G).\nIl est possible d’assister à cette RCP en distanciel (visio).
URL:https://www.endo-idf.fr/evenement/reunion-de-concertation-pluridisciplinaire-rcp-92/
LOCATION:Hôpital Paris Saint-Joseph\, 185 Rue Raymond Losserand\, Paris\, 75014\, France
CATEGORIES:RCP
ATTACH;FMTTYPE=image/jpeg:https://www.endo-idf.fr/wp-content/uploads/2023/12/RCP-img-event.jpg
END:VEVENT
BEGIN:VEVENT
DTSTART;TZID=Europe/Paris:20241206T090000
DTEND;TZID=Europe/Paris:20241206T103000
DTSTAMP:20260424T031959
CREATED:20241106T142205Z
LAST-MODIFIED:20241106T142205Z
UID:123835-1733475600-1733481000@www.endo-idf.fr
SUMMARY:Réunion de concertation pluridisciplinaire (RCP)
DESCRIPTION:Réunion de concertation pluridisciplinaire (RCP) à l’Hôpital La Pitié-Salpêtrière \n\nPour participer à cette RCP ou pour toute demande d’information\, vous pouvez contacter :\nPr Geoffroy CANLORBE : geoffroy.canlorbe@aphp.fr
URL:https://www.endo-idf.fr/evenement/reunion-de-concertation-pluridisciplinaire-rcp-68/
LOCATION:Hôpital Pitié-Salpêtrière\, 47-83 boulevard de l'Hôpital\, PARIS\, 75013\, France
CATEGORIES:Filière Endo Nord-Est,RCP
ATTACH;FMTTYPE=image/jpeg:https://www.endo-idf.fr/wp-content/uploads/2023/12/RCP-img-event.jpg
END:VEVENT
BEGIN:VEVENT
DTSTART;TZID=Europe/Paris:20241210T190000
DTEND;TZID=Europe/Paris:20241210T220000
DTSTAMP:20260424T032000
CREATED:20241128T144533Z
LAST-MODIFIED:20241128T150508Z
UID:124016-1733857200-1733868000@www.endo-idf.fr
SUMMARY:PARCOURS AMP - RENCONTRE VILLE HOPITAL
DESCRIPTION:Professionnels de santé\, vous êtes conviés à une soirée débat-réflexion autour du repérage des vulnérabilités des femmes et des couples en parcours d’AMP ou en période prénatale\, organisée par le Centre de la Fertilité du GH Diaconesses-Croix Saint Simon\, en collaboration avec le réseau “FertiDiac” et la RSPP. \n👉 Mardi 10 décembre 2024 de 19h à 22h sur le site de l’Hôpital Les Diaconesses 18 rue du Sergent Bauchat 75012 Paris (salle France Quéré) \nPour vous inscrire : \nhttps://www.helloasso.com/associations/reseau-de-sante-perinatal-parisien/evenements/fertidiac
URL:https://www.endo-idf.fr/evenement/soiree-fertidiac-10-12-2024/
LOCATION:Hôpital des Diaconesses\, 18 rue du Sergent Bauchat\, Paris\, 75012
CATEGORIES:Congrès,Filière Endo Nord-Est
ATTACH;FMTTYPE=image/jpeg:https://www.endo-idf.fr/wp-content/uploads/2024/11/GHDCSS-Rencontre-Ville-Hopital-Fertidiac__page-0002.jpg
END:VEVENT
BEGIN:VEVENT
DTSTART;VALUE=DATE:20241212
DTEND;VALUE=DATE:20241213
DTSTAMP:20260424T032000
CREATED:20241121T163925Z
LAST-MODIFIED:20241125T143607Z
UID:123903-1733961600-1734047999@www.endo-idf.fr
SUMMARY:Réunion de concertation pluridisciplinaire (RCP)
DESCRIPTION:Réunion de concertation pluridisciplinaire (RCP) de l’Hôpital Beaujon \n\nVous êtes un professionnel de santé et souhaitez participer à cette RCP ? Pour toute demande d’information\, merci de contacter le secrétariat au 01 40 87 56 33 ou écrire à l’adresse email suivante :  barbara.payen@aphp.fr  \n 
URL:https://www.endo-idf.fr/evenement/reunion-de-concertation-pluridisciplinaire-rcp-71/
LOCATION:Hopital Beaujon\, 100 bd Gén Leclerc\, Clichy\, 92110\, France
CATEGORIES:Filière Endo Centre-Ouest,RCP
ATTACH;FMTTYPE=image/jpeg:https://www.endo-idf.fr/wp-content/uploads/2023/12/RCP-img-event.jpg
END:VEVENT
BEGIN:VEVENT
DTSTART;VALUE=DATE:20241212
DTEND;VALUE=DATE:20241214
DTSTAMP:20260424T032000
CREATED:20241023T131859Z
LAST-MODIFIED:20241025T092629Z
UID:123695-1733961600-1734134399@www.endo-idf.fr
SUMMARY:Pelvic Health 2024
DESCRIPTION:[vc_row][vc_column][vc_column_text uncode_shortcode_id=”575877″]Le Congrès PELVIC HEALTH est un événement incontournable pour ceux qui s’intéressent à l’interconnexion entre les différentes disciplines médicales impliquées dans l’étude et la prise en charge des problématiques pelviennes. \nCette année\, PELVIC HEALTH met un accent particulier sur la chirurgie pelvienne\, avec plusieurs sessions dédiées : \n\nChirurgie robotique oncologique : des échanges de savoir-faire sont prévus entre chirurgiens urologues\, gynécologues et digestifs pour optimiser les approches et les techniques.\nPathologies pelviennes bénignes : discussions sur l’endométriose\, les sténoses urétrales\, ainsi que le traitement de l’adénome de la prostate.\nWorkshops chirurgicaux : organisés tout au long du congrès\, ces ateliers pratiques intéresseront à la fois les chirurgiens et de nombreux autres professionnels de santé.\n\nCet événement promet des opportunités uniques de formation et de collaboration pour tous les participants[/vc_column_text][vc_button border_width=”0″ link=”url:https%3A%2F%2Fpelvic-health.fr%2Finscriptions%2F” uncode_shortcode_id=”146724″]INSCRIPTION[/vc_button][/vc_column][/vc_row]
URL:https://www.endo-idf.fr/evenement/pelvic-health-2024/
LOCATION:Novotel Monaco\, 16 Bd Princesse Charlotte\, 98000\, Monaco
CATEGORIES:Congrès
ATTACH;FMTTYPE=image/jpeg:https://www.endo-idf.fr/wp-content/uploads/2024/10/pelvic2024-vignette-comyou.jpg
END:VEVENT
BEGIN:VEVENT
DTSTART;TZID=Europe/Paris:20241212T180000
DTEND;TZID=Europe/Paris:20241212T193000
DTSTAMP:20260424T032000
CREATED:20241128T133801Z
LAST-MODIFIED:20241128T135903Z
UID:123995-1734026400-1734031800@www.endo-idf.fr
SUMMARY:Réunion de concertation pluridisciplinaire (RCP)
DESCRIPTION:Réunion de concertation pluridisciplinaire (RCP) au Groupe Hospitalier Diaconesses-Croix Saint Simon \n\nPour participer à cette RCP ou pour toute demande d’information\, vous pouvez contacter : \nDr Benjamine PHAM : bpham@hopital-dcss.org \nAnne CONAN-FRAYSSE : aconanfraysse@hopital-dcss.org
URL:https://www.endo-idf.fr/evenement/reunion-de-concertation-pluridisciplinaire-rcp-78/
LOCATION:Hôpital de la Croix-Saint-Simon\, 125 rue d'Avron\, PARIS\, 750020\, France
CATEGORIES:Filière Endo Nord-Est,RCP
ATTACH;FMTTYPE=image/jpeg:https://www.endo-idf.fr/wp-content/uploads/2024/11/PHOTO-REUNION-MEDICALE.jpg
END:VEVENT
BEGIN:VEVENT
DTSTART;VALUE=DATE:20241213
DTEND;VALUE=DATE:20241214
DTSTAMP:20260424T032000
CREATED:20241126T120716Z
LAST-MODIFIED:20241126T121230Z
UID:123965-1734048000-1734134399@www.endo-idf.fr
SUMMARY:Mettre la douleur en mouvement !
DESCRIPTION:[vc_row][vc_column][vc_column_text]8e Journée annuelle du Réseau Ville-Hôpital Lutter Contre la Douleur. \nLe réseau LCD vous offre une journée d’échange et de partage qui vous permettra de voyager autour du thème de la mobilité dans un nouveau cadre exceptionnel.[/vc_column_text][vc_button border_width=”0″ link=”url:https%3A%2F%2Fdocs.google.com%2Fforms%2Fd%2Fe%2F1FAIpQLSdfabaBgebc5SnOFDMEyS4hI6kQM41uSFzIhTNj_AAqn3pI8w%2Fviewform” uncode_shortcode_id=”171440″]Inscription[/vc_button][/vc_column][/vc_row] \n 
URL:https://www.endo-idf.fr/evenement/mettre-la-douleur-en-mouvement/
LOCATION:Paris 12\, France
CATEGORIES:Evénement Pro
ATTACH;FMTTYPE=image/jpeg:https://www.endo-idf.fr/wp-content/uploads/2024/11/content.jpg
END:VEVENT
BEGIN:VEVENT
DTSTART;TZID=Europe/Paris:20241216T093000
DTEND;TZID=Europe/Paris:20241216T103000
DTSTAMP:20260424T032000
CREATED:20240426T075951Z
LAST-MODIFIED:20240426T075951Z
UID:122550-1734341400-1734345000@www.endo-idf.fr
SUMMARY:Réunion de concertation pluridisciplinaire (RCP)
DESCRIPTION:Réunion de concertation pluridisciplinaire (RCP) de l’Hopital Foch \n\nPour participer ou pour toute demande d’information\, vous pouvez contacter le secrétariat au 01 46 25 27 99 ou écrire à l’adresse email suivante : centre-douleurgyneco@hopital-foch.com \n 
URL:https://www.endo-idf.fr/evenement/reunion-de-concertation-pluridisciplinaire-rcp-46/
LOCATION:Hopital Foch
CATEGORIES:Filière Endo Centre-Ouest,RCP
ATTACH;FMTTYPE=image/jpeg:https://www.endo-idf.fr/wp-content/uploads/2023/12/RCP-img-event.jpg
END:VEVENT
BEGIN:VEVENT
DTSTART;TZID=Europe/Paris:20250113T093000
DTEND;TZID=Europe/Paris:20250113T093000
DTSTAMP:20260424T032000
CREATED:20240916T123828Z
LAST-MODIFIED:20240916T123828Z
UID:123339-1736760600-1736760600@www.endo-idf.fr
SUMMARY:Réunion de concertation pluridisciplinaire (RCP)
DESCRIPTION:Réunion de concertation pluridisciplinaire (RCP) de l’Hopital Foch \n\nPour participer ou pour toute demande d’information\, vous pouvez contacter le secrétariat au 01 46 25 27 99 ou écrire à l’adresse email suivante : centre-douleurgyneco@hopital-foch.com \n 
URL:https://www.endo-idf.fr/evenement/reunion-de-concertation-pluridisciplinaire-rcp-59/
LOCATION:Hopital Foch
CATEGORIES:Filière Endo Centre-Ouest,RCP
ATTACH;FMTTYPE=image/jpeg:https://www.endo-idf.fr/wp-content/uploads/2023/12/RCP-img-event.jpg
END:VEVENT
BEGIN:VEVENT
DTSTART;TZID=Europe/Paris:20241220T090000
DTEND;TZID=Europe/Paris:20241220T103000
DTSTAMP:20260424T032000
CREATED:20241106T142255Z
LAST-MODIFIED:20241106T142255Z
UID:123837-1734685200-1734690600@www.endo-idf.fr
SUMMARY:Réunion de concertation pluridisciplinaire (RCP)
DESCRIPTION:Réunion de concertation pluridisciplinaire (RCP) à l’Hôpital La Pitié-Salpêtrière \n\nPour participer à cette RCP ou pour toute demande d’information\, vous pouvez contacter :\nPr Geoffroy CANLORBE : geoffroy.canlorbe@aphp.fr
URL:https://www.endo-idf.fr/evenement/reunion-de-concertation-pluridisciplinaire-rcp-69/
LOCATION:Hôpital Pitié-Salpêtrière\, 47-83 boulevard de l'Hôpital\, PARIS\, 75013\, France
CATEGORIES:Filière Endo Nord-Est,RCP
ATTACH;FMTTYPE=image/jpeg:https://www.endo-idf.fr/wp-content/uploads/2023/12/RCP-img-event.jpg
END:VEVENT
END:VCALENDAR