BEGIN:VCALENDAR
VERSION:2.0
PRODID:-//EndoIDF - ECPv6.2.0.1//NONSGML v1.0//EN
CALSCALE:GREGORIAN
METHOD:PUBLISH
X-WR-CALNAME:EndoIDF
X-ORIGINAL-URL:https://www.endo-idf.fr
X-WR-CALDESC:évènements pour EndoIDF
REFRESH-INTERVAL;VALUE=DURATION:PT1H
X-Robots-Tag:noindex
X-PUBLISHED-TTL:PT1H
BEGIN:VTIMEZONE
TZID:Europe/Paris
BEGIN:DAYLIGHT
TZOFFSETFROM:+0100
TZOFFSETTO:+0200
TZNAME:CEST
DTSTART:20240331T010000
END:DAYLIGHT
BEGIN:STANDARD
TZOFFSETFROM:+0200
TZOFFSETTO:+0100
TZNAME:CET
DTSTART:20241027T010000
END:STANDARD
END:VTIMEZONE
BEGIN:VEVENT
DTSTART;TZID=Europe/Paris:20241104T160000
DTEND;TZID=Europe/Paris:20241104T173000
DTSTAMP:20260424T043422
CREATED:20241025T152231Z
LAST-MODIFIED:20241025T152231Z
UID:123717-1730736000-1730741400@www.endo-idf.fr
SUMMARY:Réunion de concertation pluridisciplinaire (RCP)
DESCRIPTION:Réunion de concertation pluridisciplinaire (RCP) à l’Hôpital Tenon \n\nPour participer à cette RCP ou pour toute demande d’information\, vous pouvez contacter :\nDr Yohann DABI : yohann.dabi@aphp.fr
URL:https://www.endo-idf.fr/evenement/reunion-de-concertation-pluridisciplinaire-rcp-65/
LOCATION:Hôpital Tenon\, 4 Rue de la Chine\, Paris\, 75020\, France
CATEGORIES:Filière Endo Nord-Est,RCP
ATTACH;FMTTYPE=image/jpeg:https://www.endo-idf.fr/wp-content/uploads/2023/12/RCP-img-event.jpg
END:VEVENT
BEGIN:VEVENT
DTSTART;TZID=Europe/Paris:20241106T190000
DTEND;TZID=Europe/Paris:20241106T203000
DTSTAMP:20260424T043422
CREATED:20240214T095745Z
LAST-MODIFIED:20240214T095745Z
UID:122013-1730919600-1730925000@www.endo-idf.fr
SUMMARY:Réunion de concertation pluridisciplinaire (RCP)
DESCRIPTION:Réunion de concertation pluridisciplinaire (RCP) à l’Institut de la Femme et de l’Endométriose (IFEEN) \n\nPour participer à cette RCP ou pour toute demande d’information\, vous pouvez faire votre demande en remplissant le formulaire de contact sur le site ifeen.fr  \n\n  \n\n 
URL:https://www.endo-idf.fr/evenement/reunion-de-concertation-pluridisciplinaire-rcp-36/
LOCATION:IFEEN\, 5 All. Arnaud Beltrame\, Paris\, 75003\, France
CATEGORIES:Filière EndoSud IDF,RCP
ATTACH;FMTTYPE=image/jpeg:https://www.endo-idf.fr/wp-content/uploads/2023/12/RCP-img-event.jpg
END:VEVENT
BEGIN:VEVENT
DTSTART;TZID=Europe/Paris:20241113T183000
DTEND;TZID=Europe/Paris:20241113T203000
DTSTAMP:20260424T043422
CREATED:20241022T165302Z
LAST-MODIFIED:20241023T102700Z
UID:123676-1731522600-1731529800@www.endo-idf.fr
SUMMARY:Conférence annuelle de la recherche sur l'endométriose
DESCRIPTION:[vc_row][vc_column][vc_column_text uncode_shortcode_id=”770564″]Pour la troisième année consécutive\, à l’occasion de l’ENDOrun\, la conférence de la recherche sur l’endométriose revient avec une thématique passionnante : “Dernières avancées de la Recherche sur l’Endométriose”. Cet événement mettra en lumière des sujets cruciaux qui façonnent l’avenir de la lutte contre cette maladie. \nAu programme de cette conférence : \n\nOù en est la recherche depuis le lancement de la Stratégie nationale de lutte contre l’endométriose ?\nOù en est la recherche clinique sur les traitements hormonaux ?\nPourquoi les données de santé des patientes sont importantes pour les chercheurs ?\nPourquoi la recherche sur le cancer peut accélérer la recherche sur l’endométriose ?\n\nRéservez dès à présent cette date.[/vc_column_text][vc_button border_width=”0″ link=”url:https%3A%2F%2Fwww.fondation-endometriose.org%2Fconference-recherche-2024%2F” uncode_shortcode_id=”116046″]INSCIPTION[/vc_button][/vc_column][/vc_row]
URL:https://www.endo-idf.fr/evenement/conference-annuelle-de-la-recherche-sur-lendometriose/
LOCATION:Mairie du 15ème arrondissement de Paris\, 31 rue Peclet\, Paris\, 75015\, France
CATEGORIES:Evénement Patient,Evénement Pro
ATTACH;FMTTYPE=image/png:https://www.endo-idf.fr/wp-content/uploads/2024/10/Conf-24-format-carre.png
END:VEVENT
BEGIN:VEVENT
DTSTART;TZID=Europe/Paris:20241114T180000
DTEND;TZID=Europe/Paris:20241114T193000
DTSTAMP:20260424T043422
CREATED:20241105T153825Z
LAST-MODIFIED:20241105T153825Z
UID:123825-1731607200-1731612600@www.endo-idf.fr
SUMMARY:Réunion de concertation pluridisciplinaire (RCP)
DESCRIPTION:Réunion de concertation pluridisciplinaire (RCP) au Groupe Hospitalier Diaconesses-Croix Saint Simon \n\nPour participer à cette RCP ou pour toute demande d’information\, vous pouvez contacter :\nle secrétariat du service en écrivant à chirgyneco@hopital-dcss.org
URL:https://www.endo-idf.fr/evenement/reunion-de-concertation-pluridisciplinaire-rcp-67/
LOCATION:Hôpital de la Croix-Saint-Simon\, 125 rue d'Avron\, PARIS\, 750020\, France
CATEGORIES:Filière Endo Nord-Est,RCP
ATTACH;FMTTYPE=image/jpeg:https://www.endo-idf.fr/wp-content/uploads/2023/12/RCP-img-event.jpg
END:VEVENT
BEGIN:VEVENT
DTSTART;TZID=Europe/Paris:20241114T183000
DTEND;TZID=Europe/Paris:20241114T193000
DTSTAMP:20260424T043422
CREATED:20241114T145404Z
LAST-MODIFIED:20241114T145404Z
UID:123889-1731609000-1731612600@www.endo-idf.fr
SUMMARY:Réunion de concertation pluridisciplinaire (RCP)
DESCRIPTION:Réunion de concertation pluridisciplinaire (RCP) du centre de l’endométriose de l’Hôpital Paris Saint-Joseph \nPour participer à cette RCP ou pour toute demande d’information\, vous pouvez contacter : Tessa Boisne : endometriose@ghpsj.fr \nNous vous attendons à partir de 18h30 à la salle d’imagerie (à droite en entrant par l’entrée principale) ou en salle de conférence (batiment NDBS porte 10 niveau G).\nIl est possible d’assister à cette RCP en distanciel (visio).
URL:https://www.endo-idf.fr/evenement/reunion-de-concertation-pluridisciplinaire-rcp-70/
LOCATION:Hôpital Paris Saint-Joseph\, 185 Rue Raymond Losserand\, Paris\, 75014\, France
CATEGORIES:RCP
ATTACH;FMTTYPE=image/jpeg:https://www.endo-idf.fr/wp-content/uploads/2023/12/RCP-img-event.jpg
END:VEVENT
BEGIN:VEVENT
DTSTART;VALUE=DATE:20241117
DTEND;VALUE=DATE:20241118
DTSTAMP:20260424T043422
CREATED:20240816T130529Z
LAST-MODIFIED:20241023T103013Z
UID:123162-1731801600-1731887999@www.endo-idf.fr
SUMMARY:ENDOrun 2024
DESCRIPTION:[vc_row][vc_column][vc_column_text]EndoRun\, course pour la recherche endométriose de l’association ENDOmind. \nRéservez dès à présent cette date. \n[/vc_column_text][vc_button border_width=”0″ link=”url:https%3A%2F%2Fwww.endorun.fr%2Finscription” uncode_shortcode_id=”207123″]INSCRIPTION[/vc_button][/vc_column][/vc_row]
URL:https://www.endo-idf.fr/evenement/endorun-2024/
LOCATION:Vélodrome Jacques Anquetil\, 51 Av. de Gravelle\, Paris\, 75012\, France
CATEGORIES:Evénement Patient,Evénement Pro
ATTACH;FMTTYPE=image/webp:https://www.endo-idf.fr/wp-content/uploads/2024/08/ebf679_a6740dc2e4a34918a582814b199c68bemv2.webp
END:VEVENT
BEGIN:VEVENT
DTSTART;TZID=Europe/Paris:20241118T093000
DTEND;TZID=Europe/Paris:20241118T103000
DTSTAMP:20260424T043422
CREATED:20240426T075849Z
LAST-MODIFIED:20240426T075849Z
UID:122548-1731922200-1731925800@www.endo-idf.fr
SUMMARY:Réunion de concertation pluridisciplinaire (RCP)
DESCRIPTION:Réunion de concertation pluridisciplinaire (RCP) de l’Hopital Foch \n\nPour participer ou pour toute demande d’information\, vous pouvez contacter le secrétariat au 01 46 25 27 99 ou écrire à l’adresse email suivante : centre-douleurgyneco@hopital-foch.com \n 
URL:https://www.endo-idf.fr/evenement/reunion-de-concertation-pluridisciplinaire-rcp-45/
LOCATION:Hopital Foch
CATEGORIES:Filière Endo Centre-Ouest,RCP
ATTACH;FMTTYPE=image/jpeg:https://www.endo-idf.fr/wp-content/uploads/2023/12/RCP-img-event.jpg
END:VEVENT
BEGIN:VEVENT
DTSTART;TZID=Europe/Paris:20241119T130000
DTEND;TZID=Europe/Paris:20241119T143000
DTSTAMP:20260424T043422
CREATED:20241021T125939Z
LAST-MODIFIED:20241023T132137Z
UID:123666-1732021200-1732026600@www.endo-idf.fr
SUMMARY:FLASH SANTE - Endométriose
DESCRIPTION:Retrouvez-nous le mardi 19 novembre prochain de 13h à 14h30 en visio pour tout savoir sur l’endométriose et la filière Voyelle (endo 78 et 95 Ouest). \nAu programme :\n*Des spécialistes de l’endométriose\,\n*Tout savoir sur l’endométriose\,\n*De la sensibilisation\,\n*Des questions/réponses. \nVenez nombreux ! \nVoyelle a besoin de vous pour offrir aux patientes un parcours de soins de qualité et personnalisé sur le territoire. \nL’endométriose\, c’est :\n*1 femme sur 10\,\n*7 ans en moyenne de diagnostic médical\,\n*Une priorité nationale de santé publique. \nMerci pour elles.
URL:https://www.endo-idf.fr/evenement/flash-sante-webinaire-endometriose/
CATEGORIES:Evénement Pro,Filière 78-95 Voyelle,Webinaire
ATTACH;FMTTYPE=application/pdf:https://www.endo-idf.fr/wp-content/uploads/2024/10/Les-Rencontres-Flash-Sante-VF-2.pdf
END:VEVENT
BEGIN:VEVENT
DTSTART;VALUE=DATE:20241121
DTEND;VALUE=DATE:20241123
DTSTAMP:20260424T043422
CREATED:20241003T141626Z
LAST-MODIFIED:20241015T153555Z
UID:123425-1732147200-1732319999@www.endo-idf.fr
SUMMARY:52es Journées Jean Cohen 2024
DESCRIPTION:[vc_row][vc_column][vc_column_text uncode_shortcode_id=”161604″]52es Journées JEAN COHEN 2024 et des 15èmes Journées de Gynécologie Obstétrique et Reproduction. \nRéservez dès à présent cette date.[/vc_column_text][vc_button border_width=”0″ link=”url:https%3A%2F%2Fcongres.eska.fr%2Ffiles%2FProgramme_Jean%2520Cohen%25202024.pdf” uncode_shortcode_id=”201209″]Découvrir le programme[/vc_button][/vc_column][/vc_row]
URL:https://www.endo-idf.fr/evenement/52es-journees-jean-cohen-2024/
LOCATION:UIC-P\, 16 rue Jean Rey\, Paris\, 75015\, France
CATEGORIES:Congrès
ATTACH;FMTTYPE=image/jpeg:https://www.endo-idf.fr/wp-content/uploads/2024/10/jean_cohen_2024-1.jpg
END:VEVENT
BEGIN:VEVENT
DTSTART;TZID=Europe/Paris:20241122T083000
DTEND;TZID=Europe/Paris:20241122T173000
DTSTAMP:20260424T043422
CREATED:20240627T151011Z
LAST-MODIFIED:20241025T152556Z
UID:123009-1732264200-1732296600@www.endo-idf.fr
SUMMARY:Journée d'Étude de la filière Endo Nord-Est
DESCRIPTION:SAVE THE DATE !!! \nLa Filière Endo Nord-Est IDF vous propose de participer à sa prochaine Journée d’Etude vendredi 22 novembre 2024. \nLieu : Hôpital Les Diaconesses – rue du Sergent Bauchat 75012 Paris \nHoraires : 8h30 – 17h30 \nThématique : “ENDOMETRIOSE ET ACTUALITES SCIENTIFIQUES \nAu programme : épidémiologie et prévalence\, cohortes de patientes et recherches associées\, étiologie et recherches associées\, présentation d’une thèse… \nAvec notamment le Dr Marina KVASKOFF et son équipe de l’INSERM\, et Valérie DESPLANCHES\, présidente de la FRE
URL:https://www.endo-idf.fr/evenement/la-filiere-endo-nord-est-idf-organise-une-journee-detude-le-22-novembre-2024/
CATEGORIES:Congrès,Filière Endo Nord-Est
END:VEVENT
BEGIN:VEVENT
DTSTART;TZID=Europe/Paris:20241122T090000
DTEND;TZID=Europe/Paris:20241122T103000
DTSTAMP:20260424T043422
CREATED:20241105T112748Z
LAST-MODIFIED:20241106T142114Z
UID:123810-1732266000-1732271400@www.endo-idf.fr
SUMMARY:Réunion de concertation pluridisciplinaire (RCP)
DESCRIPTION:Réunion de concertation pluridisciplinaire (RCP) à l’Hôpital La Pitié-Salpêtrière \n\nPour participer à cette RCP ou pour toute demande d’information\, vous pouvez contacter :\nPr Geoffroy CANLORBE : geoffroy.canlorbe@aphp.fr
URL:https://www.endo-idf.fr/evenement/reunion-de-concertation-pluridisciplinaire-rcp-66/
LOCATION:Hôpital Pitié-Salpêtrière\, 47-83 boulevard de l'Hôpital\, PARIS\, 75013\, France
CATEGORIES:Filière Endo Nord-Est,RCP
ATTACH;FMTTYPE=image/jpeg:https://www.endo-idf.fr/wp-content/uploads/2023/12/RCP-img-event.jpg
END:VEVENT
BEGIN:VEVENT
DTSTART;VALUE=DATE:20241128
DTEND;VALUE=DATE:20241130
DTSTAMP:20260424T043422
CREATED:20241003T143027Z
LAST-MODIFIED:20241015T160501Z
UID:123431-1732752000-1732924799@www.endo-idf.fr
SUMMARY:Congrès National de la Sage-Femme Libérale
DESCRIPTION:[vc_row][vc_column][vc_column_text uncode_shortcode_id=”939597″]Deux jours de conférences\, d’ateliers et un programme DPC pour actualiser ou approfondir ses connaissances sur des thèmes scientifiques et médicaux\, découvrir des initiatives innovantes\, trouver des réponses en matière de gestion de cabinet et échanger avec ses collègues venues de toute la France. \nRéservez dès à présent cette date.[/vc_column_text][vc_button border_width=”0″ link=”url:https%3A%2F%2Fprofession-sage-femme.com%2Fwp-content%2Fuploads%2F2024%2F09%2Fcnsfl_prog5sept.pdf” uncode_shortcode_id=”206468″]Découvrir le programme[/vc_button][/vc_column][/vc_row]
URL:https://www.endo-idf.fr/evenement/congres-national-de-la-sage-femme-liberale/
LOCATION:Centre de Congrès de Troyes\, 3 Rue Pierre Labonde\, Troyes\, 10000\, France
CATEGORIES:Congrès
ATTACH;FMTTYPE=image/jpeg:https://www.endo-idf.fr/wp-content/uploads/2024/10/xCNSFL24-1.jpg.pagespeed.ic_.Oq2H633Awg.jpg
END:VEVENT
END:VCALENDAR