BEGIN:VCALENDAR
VERSION:2.0
PRODID:-//EndoIDF - ECPv6.2.0.1//NONSGML v1.0//EN
CALSCALE:GREGORIAN
METHOD:PUBLISH
X-ORIGINAL-URL:https://www.endo-idf.fr
X-WR-CALDESC:évènements pour EndoIDF
REFRESH-INTERVAL;VALUE=DURATION:PT1H
X-Robots-Tag:noindex
X-PUBLISHED-TTL:PT1H
BEGIN:VTIMEZONE
TZID:Europe/Paris
BEGIN:DAYLIGHT
TZOFFSETFROM:+0100
TZOFFSETTO:+0200
TZNAME:CEST
DTSTART:20240331T010000
END:DAYLIGHT
BEGIN:STANDARD
TZOFFSETFROM:+0200
TZOFFSETTO:+0100
TZNAME:CET
DTSTART:20241027T010000
END:STANDARD
END:VTIMEZONE
BEGIN:VEVENT
DTSTART;TZID=Europe/Paris:20240502T183000
DTEND;TZID=Europe/Paris:20240502T193000
DTSTAMP:20260424T143505
CREATED:20240206T152822Z
LAST-MODIFIED:20240206T205859Z
UID:121845-1714674600-1714678200@www.endo-idf.fr
SUMMARY:Réunion de concertation pluridisciplinaire (RCP)
DESCRIPTION:Réunion de concertation pluridisciplinaire (RCP) de la Clinique de l’Estrée  \n\nPour participer à cette RCP ou pour toute demande d’information\, vous pouvez contacter :\nAnne CONAN-FRAYSSE : aconanfraysse@hopital-dcss.org
URL:https://www.endo-idf.fr/evenement/reunion-de-concertation-pluridisciplinaire-rcp-14/
LOCATION:Clinique de l’Estrée\, 35 Rue d'Amiens\, Stains\, 93240\, France
CATEGORIES:Filière Endo Nord-Est,RCP
ATTACH;FMTTYPE=image/jpeg:https://www.endo-idf.fr/wp-content/uploads/2023/12/RCP-img-event.jpg
END:VEVENT
BEGIN:VEVENT
DTSTART;TZID=Europe/Paris:20240515T183000
DTEND;TZID=Europe/Paris:20240515T203000
DTSTAMP:20260424T143505
CREATED:20240513T160814Z
LAST-MODIFIED:20240513T160814Z
UID:122666-1715797800-1715805000@www.endo-idf.fr
SUMMARY:Réunion de concertation pluridisciplinaire (RCP)
DESCRIPTION:Réunion de concertation pluridisciplinaire (RCP) du Groupe Hospitalier Privé Ambroise Paré-Hartmann \n\nPour participer ou pour toute demande d’information\, vous pouvez contacter :\nMme Corinne BERDA – corinne.berda@clinique-a-pare.fr\nMme Rizlane M’HAMED – rcp.secretaire@clinique-a-pare.fr
URL:https://www.endo-idf.fr/evenement/reunion-de-concertation-pluridisciplinaire-rcp-48/
LOCATION:Groupe Hospitalier Privé Ambroise Paré-Hartmann\, Neuilly-sur-Seine\, France
CATEGORIES:Filière Endo Centre-Ouest,RCP
ATTACH;FMTTYPE=image/jpeg:https://www.endo-idf.fr/wp-content/uploads/2023/12/RCP-img-event.jpg
END:VEVENT
BEGIN:VEVENT
DTSTART;TZID=Europe/Paris:20240516T123000
DTEND;TZID=Europe/Paris:20240516T133000
DTSTAMP:20260424T143505
CREATED:20240409T151217Z
LAST-MODIFIED:20240409T151816Z
UID:122355-1715862600-1715866200@www.endo-idf.fr
SUMMARY:Webinaire : La filière endométriose : pilier d'une approche globale du soin - Présentation des filières territoriales
DESCRIPTION:[vc_row][vc_column][vc_column_text]Le réseau de santé en périnatalité PERINAT92 a le plaisir de vous inviter à son prochain webinaire intitulé « Acteurs du territoire »\, qui portera sur “La filière endométriose : pilier d’une approche globale du soin – Présentation des filières territoriales des Hauts-de-Seine” prévu le 16 mai 2024 de 12:30 à 13:30. \nAu programme de ce webinaire : \n\nFondamentaux et caractéristiques de l’endométriose\nDéfinition et objectifs des filières endométriose\nProcessus de diagnostic et d’orientation\nSpécialités impliquées dans ces filières : comment et pourquoi adhérer ?\nLes ressources du territoire (site internet et annuaire)\nProgramme des formations\n\nFrédérique Perrotte\, sage-femme coordinatrice la filière EndoSud IDF et Elodie Jouin-Levy coordinatrice de la filière Centre-Ouest IDF auront l’honneur d’intervenir pour présenter la filière Endométriose Ile-de-France aux professionnels de santé et du social. \n[/vc_column_text][/vc_column][/vc_row][vc_row][vc_column width=”1/1″][vc_button border_width=”0″ link=”url:https%3A%2F%2Fevents.teams.microsoft.com%2Fevent%2Fee102b70-ffd9-48a2-892a-e013600a3c08%40d828d5bd-955d-47f2-bbdd-cc3f49314125%2Fregistration” uncode_shortcode_id=”170829″]Lien d’inscription[/vc_button][/vc_column][/vc_row]
URL:https://www.endo-idf.fr/evenement/webinaire-la-filiere-endometriose-pilier-dune-approche-globale-du-soin-presentation-des-filieres-territoriales/
CATEGORIES:Webinaire
ATTACH;FMTTYPE=image/jpeg:https://www.endo-idf.fr/wp-content/uploads/2024/03/PHOTO-WEBINAR.jpg
END:VEVENT
BEGIN:VEVENT
DTSTART;TZID=Europe/Paris:20240516T170000
DTEND;TZID=Europe/Paris:20240516T183000
DTSTAMP:20260424T143505
CREATED:20240212T183010Z
LAST-MODIFIED:20240212T183010Z
UID:121977-1715878800-1715884200@www.endo-idf.fr
SUMMARY:Réunion de concertation pluridisciplinaire (RCP)
DESCRIPTION:Réunion de concertation pluridisciplinaire (RCP) du centre de l’endométriose de l’Hôpital Intercommunal de Créteil  \n\nPour participer à cette RCP ou pour toute demande d’information\, vous pouvez contacter la secrétaire Madame Silva-Azenha 01 57 02 22 44 ou par mail nathalie.silva-azenha@chicreteil.fr \nLieu : Bâtiment C 1 er étage salle de staff \n 
URL:https://www.endo-idf.fr/evenement/reunion-de-concertation-pluridisciplinaire-rcp-30/
LOCATION:Hopital Intercommunal Créteil\, 40 Avenue de Verdun\, CRETEIL\, 94010
CATEGORIES:Filière EndoSud IDF,RCP
ATTACH;FMTTYPE=image/jpeg:https://www.endo-idf.fr/wp-content/uploads/2023/12/RCP-img-event.jpg
END:VEVENT
BEGIN:VEVENT
DTSTART;TZID=Europe/Paris:20240516T183000
DTEND;TZID=Europe/Paris:20240516T193000
DTSTAMP:20260424T143505
CREATED:20240206T211113Z
LAST-MODIFIED:20240207T130047Z
UID:121888-1715884200-1715887800@www.endo-idf.fr
SUMMARY:Réunion de concertation pluridisciplinaire (RCP)
DESCRIPTION:Réunion de concertation pluridisciplinaire (RCP) du centre de l’endométriose de l’hôpital Saint-Joseph \n\nPour participer à cette RCP ou pour toute demande d’information\, vous pouvez contacter :\nTessa Boisne : endometriose@ghpsj.fr \nNous vous attendons à partir de 18h30 à la salle d’imagerie (à droite en entrant par l’entrée principale) ou en salle de conférence (batiment NDBS porte 10 niveau G).\nIl est possible d’assister à cette RCP en distanciel (visio).
URL:https://www.endo-idf.fr/evenement/reunion-de-concertation-pluridisciplinaire-rcp-20/
LOCATION:Hôpital Paris Saint-Joseph\, 185 Rue Raymond Losserand\, Paris\, 75014\, France
CATEGORIES:Filière EndoSud IDF,RCP
ATTACH;FMTTYPE=image/jpeg:https://www.endo-idf.fr/wp-content/uploads/2023/12/RCP-img-event.jpg
END:VEVENT
BEGIN:VEVENT
DTSTART;TZID=Europe/Paris:20240517T090000
DTEND;TZID=Europe/Paris:20240517T180000
DTSTAMP:20260424T143505
CREATED:20240212T173455Z
LAST-MODIFIED:20240212T173455Z
UID:121965-1715936400-1715968800@www.endo-idf.fr
SUMMARY:ENDO-NICE
DESCRIPTION:
URL:https://www.endo-idf.fr/evenement/endo-nice/
LOCATION:Centre universitaire méditérannéen de Nice\, 65 Promenade des Anglais\, Nice\, 06000
CATEGORIES:Congrès,Evénement Pro,Filière 78-95 Voyelle,Filière Centre-Ouest,Filière Endo Centre-Ouest,Filière Endo Nord-Est,Filière EndoSud IDF
ATTACH;FMTTYPE=image/jpeg:https://www.endo-idf.fr/wp-content/uploads/2024/02/ENDONICE-2024_page-0001.jpg
END:VEVENT
BEGIN:VEVENT
DTSTART;TZID=Europe/Paris:20240523T190000
DTEND;TZID=Europe/Paris:20240523T210000
DTSTAMP:20260424T143505
CREATED:20240426T132959Z
LAST-MODIFIED:20240426T133424Z
UID:122558-1716490800-1716498000@www.endo-idf.fr
SUMMARY:Masterclass "Santé des femmes" : l'endométriose
DESCRIPTION:Jeudi 23 mai de 19h à 21h  \nAu programme : \nOuverture de la soirée : Dr Gwénola KEROMNES\, cheffe de service de PMA \nPrésentation de la filière endométriose en Ile-de-France : Anne CONAN-FRAYSSE \nPrise en charge médicale de l’endométriose : Dr Christine DEHGHANI\, gynécologue médicale \nPrise en charge chirurgicale : Pr Marcos BALLESTER\, chef du service de chirurgie gynécologique et mammaire \nPrise en charge en AMP et préservation de la fertilité : Dr Gwénola KEROMNES \nPoint de vue de la radiologue : Dr Camille BOURILLON \nEndométriose et grossesse : Dr Richard BEDDOCK\, chef du service maternité \n  \nPour vous inscrire : aconanfraysse@hopital-dcss.org \n 
URL:https://www.endo-idf.fr/evenement/masterclass-sante-des-femmes-lendometriose/
LOCATION:Hôpital des Diaconesses\, 18 rue du Sergent Bauchat\, Paris\, 75012
ATTACH;FMTTYPE=image/jpeg:https://www.endo-idf.fr/wp-content/uploads/2024/04/istockphoto-1398323118-612x612-1.jpg
END:VEVENT
BEGIN:VEVENT
DTSTART;TZID=Europe/Paris:20240524T090000
DTEND;TZID=Europe/Paris:20240524T103000
DTSTAMP:20260424T143505
CREATED:20240517T134759Z
LAST-MODIFIED:20240517T134759Z
UID:122086-1716541200-1716546600@www.endo-idf.fr
SUMMARY:Réunion de concertation pluridisciplinaire (RCP)
DESCRIPTION:Réunion de concertation pluridisciplinaire (RCP) à l’Hôpital de La Pitié-Salpêtrière  \n\nPour participer à cette RCP ou pour toute demande d’information\, vous pouvez contacter :\nAnne CONAN-FRAYSSE : aconanfraysse@hopital-dcss.org
URL:https://www.endo-idf.fr/evenement/reunion-de-concertation-pluridisciplinaire-rcp-50/
LOCATION:Hôpital La Pitié-Salpêtrière\, 47-83 boulevard de l'Hôpital\, PARIS\, 75012\, France
CATEGORIES:Filière Endo Nord-Est,RCP
ATTACH;FMTTYPE=image/jpeg:https://www.endo-idf.fr/wp-content/uploads/2023/12/RCP-img-event.jpg
END:VEVENT
BEGIN:VEVENT
DTSTART;TZID=Europe/Paris:20240527T093000
DTEND;TZID=Europe/Paris:20240527T103000
DTSTAMP:20260424T143505
CREATED:20240426T075200Z
LAST-MODIFIED:20240426T075200Z
UID:122542-1716802200-1716805800@www.endo-idf.fr
SUMMARY:Réunion de concertation pluridisciplinaire (RCP)
DESCRIPTION:Réunion de concertation pluridisciplinaire (RCP) de l’Hopital Foch \n\nPour participer ou pour toute demande d’information\, vous pouvez contacter le secrétariat au 01 46 25 27 99 ou écrire à l’adresse email suivante : centre-douleurgyneco@hopital-foch.com \n 
URL:https://www.endo-idf.fr/evenement/reunion-de-concertation-pluridisciplinaire-rcp-42/
LOCATION:Hopital Foch
CATEGORIES:Filière Endo Centre-Ouest,RCP
ATTACH;FMTTYPE=image/jpeg:https://www.endo-idf.fr/wp-content/uploads/2023/12/RCP-img-event.jpg
END:VEVENT
BEGIN:VEVENT
DTSTART;TZID=Europe/Paris:20240527T120000
DTEND;TZID=Europe/Paris:20240527T130000
DTSTAMP:20260424T143505
CREATED:20240212T115749Z
LAST-MODIFIED:20240212T181502Z
UID:121942-1716811200-1716814800@www.endo-idf.fr
SUMMARY:Réunion de concertation pluridisciplinaire (RCP)
DESCRIPTION:Réunion de concertation pluridisciplinaire (RCP) du centre de l’endométriose de l’Hôpital Privé d’Antony \n\nPour participer à cette RCP ou pour toute demande d’information\, vous pouvez contacter la secrétaire Madame Albertini 01 46 00 76 01 ou par mail gyneco.hpa@gmail.com \n\nLieu : Radiologie salle de scanner 2\, 27 Avenue de la Providence 92 160 Antony
URL:https://www.endo-idf.fr/evenement/reunion-de-concertation-pluridisciplinaire-rcp-25/
LOCATION:Hopital Privé d’Antony\, 1 Rue Velpeau\, ANTONY\, 92160
CATEGORIES:Filière EndoSud IDF,RCP
ATTACH;FMTTYPE=image/jpeg:https://www.endo-idf.fr/wp-content/uploads/2023/12/RCP-img-event.jpg
END:VEVENT
BEGIN:VEVENT
DTSTART;TZID=Europe/Paris:20240528T200000
DTEND;TZID=Europe/Paris:20240528T220000
DTSTAMP:20260424T143505
CREATED:20240513T114225Z
LAST-MODIFIED:20240513T114226Z
UID:122656-1716926400-1716933600@www.endo-idf.fr
SUMMARY:Enseignement Postuniversitaire : Endométriose
DESCRIPTION:[vc_row][vc_column width=”1/1″][vc_column_text][/vc_column_text][/vc_column][/vc_row][vc_row][vc_column width=”1/1″][vc_column_text uncode_shortcode_id=”121004″]EPU endométriose. \nUn programme enrichissant avec des professionnels de santé passionnés autour d’un sujet passionnant. \nPour votre inscription : flashez le QR CODE. \n  \n [/vc_column_text][/vc_column][/vc_row]
URL:https://www.endo-idf.fr/evenement/enseignement-postuniversitaire-endometriose/
LOCATION:Centre Hospitalier Poissy – Saint-Germain-en-Laye\, 10 rue du champ gaillard\, POISSY\, 78303\, France
CATEGORIES:Filière 78-95 Voyelle,Formation
END:VEVENT
END:VCALENDAR