BEGIN:VCALENDAR
VERSION:2.0
PRODID:-//EndoIDF - ECPv6.2.0.1//NONSGML v1.0//EN
CALSCALE:GREGORIAN
METHOD:PUBLISH
X-WR-CALNAME:EndoIDF
X-ORIGINAL-URL:https://www.endo-idf.fr
X-WR-CALDESC:évènements pour EndoIDF
REFRESH-INTERVAL;VALUE=DURATION:PT1H
X-Robots-Tag:noindex
X-PUBLISHED-TTL:PT1H
BEGIN:VTIMEZONE
TZID:Europe/Paris
BEGIN:DAYLIGHT
TZOFFSETFROM:+0100
TZOFFSETTO:+0200
TZNAME:CEST
DTSTART:20240331T010000
END:DAYLIGHT
BEGIN:STANDARD
TZOFFSETFROM:+0200
TZOFFSETTO:+0100
TZNAME:CET
DTSTART:20241027T010000
END:STANDARD
END:VTIMEZONE
BEGIN:VEVENT
DTSTART;TZID=Europe/Paris:20240402T190000
DTEND;TZID=Europe/Paris:20240402T210000
DTSTAMP:20260424T161241
CREATED:20240205T101053Z
LAST-MODIFIED:20240206T210230Z
UID:121811-1712084400-1712091600@www.endo-idf.fr
SUMMARY:Soirée de présentation de la filière Endo Nord-Est IDF - Sud Est francilien
DESCRIPTION:[vc_row][vc_column width=”1/1″][vc_column_text uncode_shortcode_id=”205746″]Nous avons le plaisir de vous inviter à une soirée de présentation de la filière Endo Nord-est IDF au Pôle Médical de Sénart à Lieusaint (77)\, à partir de 19h. \nCe sera également l’occasion de rencontrer les professionnels.les de santé de votre territoire et d’échanger sur vos pratiques. \nRadiologues\, chirurgiens\, gynécologues\, experts.tes en endométriose et membres de la filière\, seront présents.tes. \nInscription : \nAnne Conan-Fraysse\nCoordinatrice endo Nord-Est IDF\nfiliere.nord.est@endo-idf.fr[/vc_column_text][/vc_column][/vc_row]
URL:https://www.endo-idf.fr/evenement/soiree-presentation-filiere-et-rencontre-interprofessionnelle-du-sud-est-francilien/
LOCATION:Pôle Médical de Sénart\, 18 Trait d'Union\, Lieusaint\, 77127\, France
CATEGORIES:Filière Endo Nord-Est
END:VEVENT
BEGIN:VEVENT
DTSTART;TZID=Europe/Paris:20240402T190000
DTEND;TZID=Europe/Paris:20240402T210000
DTSTAMP:20260424T161241
CREATED:20240326T105733Z
LAST-MODIFIED:20240326T142615Z
UID:122250-1712084400-1712091600@www.endo-idf.fr
SUMMARY:Webinaire : Présentation des projets de recherche soutenues par la Fondation de Recherche sur l'Endométriose
DESCRIPTION:[vc_row][vc_column width=”1/1″][vc_column_text uncode_shortcode_id=”123784″]La Fondation Recherche Endométriose (FRE)\, créée en 2021 avec l’association de patientes ENDOmind et sous l’égide de la Fondation pour la Recherche Médicale\, a pour mission d’accélérer la recherche sur l’endométriose. Dans le cadre de cette mission\, un des objectifs majeurs de la Fondation est de soutenir financièrement des projets de recherche fondamentale et clinique portés par des équipes françaises de recherche publique. \nSuite à l’appel à projets 2023\, le 3ème lancé par la FRE\, 5 projets de recherche et 1 stage à l’étranger reçoivent un soutien de la Fondation\, pour un montant total de 161 000€. \nPour découvrir ces projets\, la FRE vous donne rendez-vous  : le 2 avril 2024 à partir de 19h\, en visio\, pour une présentation des projets de recherche par les chercheurs et le CCPA (Comité Consultatif Patientes et Aidants). \n[/vc_column_text][/vc_column][/vc_row][vc_row][vc_column width=”1/3″][/vc_column][vc_column width=”1/3″][vc_button border_width=”0″ link=”url:https%3A%2F%2Fwww.fondation-endometriose.org%2Fpresentation-projets-recherche-2023%2F” uncode_shortcode_id=”898943″]lien d’inscription [/vc_button][/vc_column][vc_column width=”1/3″][/vc_column][/vc_row]
URL:https://www.endo-idf.fr/evenement/webinaire-presentation-des-projets-de-recherche-soutenues-par-la-fondation-de-recherche-sur-lendometriose/
ATTACH;FMTTYPE=image/png:https://www.endo-idf.fr/wp-content/uploads/2024/03/photo-fre-appel-a-projet.png
END:VEVENT
BEGIN:VEVENT
DTSTART;TZID=Europe/Paris:20240403T183000
DTEND;TZID=Europe/Paris:20240403T203000
DTSTAMP:20260424T161241
CREATED:20240109T134002Z
LAST-MODIFIED:20240206T210049Z
UID:121448-1712169000-1712176200@www.endo-idf.fr
SUMMARY:Réunion de concertation pluridisciplinaire (RCP)
DESCRIPTION:Réunion de concertation pluridisciplinaire (RCP) du Groupe Hospitalier Privé Ambroise Paré-Hartmann \n\nPour participer à cette RCP ou pour toute demande d’information\, vous pouvez contacter :\nMme Corinne BERDA – corinne.berda@clinique-a-pare.fr\nMme Rizlane M’HAMED – rcp.secretaire@clinique-a-pare.fr
URL:https://www.endo-idf.fr/evenement/reunion-de-concertation-pluridisciplinaire-rcp-4/
LOCATION:Groupe Hospitalier Privé Ambroise Paré-Hartmann\, Neuilly-sur-Seine\, France
CATEGORIES:Filière Endo Nord-Est,RCP
ATTACH;FMTTYPE=image/jpeg:https://www.endo-idf.fr/wp-content/uploads/2023/12/RCP-img-event.jpg
END:VEVENT
BEGIN:VEVENT
DTSTART;TZID=Europe/Paris:20240404T183000
DTEND;TZID=Europe/Paris:20240404T193000
DTSTAMP:20260424T161241
CREATED:20240206T152734Z
LAST-MODIFIED:20240206T210049Z
UID:121842-1712255400-1712259000@www.endo-idf.fr
SUMMARY:Réunion de concertation pluridisciplinaire (RCP)
DESCRIPTION:Réunion de concertation pluridisciplinaire (RCP) de la Clinique de l’Estrée  \n\nPour participer à cette RCP ou pour toute demande d’information\, vous pouvez contacter :\nAnne CONAN-FRAYSSE : aconanfraysse@hopital-dcss.org
URL:https://www.endo-idf.fr/evenement/reunion-de-concertation-pluridisciplinaire-rcp-13/
LOCATION:Clinique de l’Estrée\, 35 Rue d'Amiens\, Stains\, 93240\, France
CATEGORIES:Filière Endo Nord-Est,RCP
ATTACH;FMTTYPE=image/jpeg:https://www.endo-idf.fr/wp-content/uploads/2023/12/RCP-img-event.jpg
END:VEVENT
BEGIN:VEVENT
DTSTART;TZID=Europe/Paris:20240404T190000
DTEND;TZID=Europe/Paris:20240404T210000
DTSTAMP:20260424T161241
CREATED:20240320T094050Z
LAST-MODIFIED:20240320T094144Z
UID:122202-1712257200-1712264400@www.endo-idf.fr
SUMMARY:Réunion de Concertation Pluridisciplinaire - RCP
DESCRIPTION:Réunion de concertation pluridisciplinaire (RCP) en visioconférence de la filière EndoIDF Centre-Ouest. \nPour participer à cette RCP ou pour toute demande d’information\, vous pouvez contacter :\nMme Elodie JOUIN-LEVY : filiere.centre.ouest@endo-idf.fr
URL:https://www.endo-idf.fr/evenement/reunion-de-concertation-pluridisciplinaire-rcp-38/
LOCATION:Hopital Foch
CATEGORIES:Filière Endo Centre-Ouest,RCP
ATTACH;FMTTYPE=image/jpeg:https://www.endo-idf.fr/wp-content/uploads/2023/12/RCP-img-event.jpg
ORGANIZER;CN="Fili%C3%A8re%20Endo%20Centre%20Ouest":MAILTO:filiere.centre.ouest@endo-idf.fr
END:VEVENT
BEGIN:VEVENT
DTSTART;TZID=Europe/Paris:20240411T170000
DTEND;TZID=Europe/Paris:20240411T183000
DTSTAMP:20260424T161241
CREATED:20240212T182849Z
LAST-MODIFIED:20240212T182849Z
UID:121975-1712854800-1712860200@www.endo-idf.fr
SUMMARY:Réunion de concertation pluridisciplinaire (RCP)
DESCRIPTION:Réunion de concertation pluridisciplinaire (RCP) du centre de l’endométriose de l’Hôpital Intercommunal de Créteil  \n\nPour participer à cette RCP ou pour toute demande d’information\, vous pouvez contacter la secrétaire Madame Silva-Azenha 01 57 02 22 44 ou par mail nathalie.silva-azenha@chicreteil.fr \nLieu : Bâtiment C 1 er étage salle de staff \n 
URL:https://www.endo-idf.fr/evenement/reunion-de-concertation-pluridisciplinaire-rcp-29/
LOCATION:Hopital Intercommunal Créteil\, 40 Avenue de Verdun\, CRETEIL\, 94010
CATEGORIES:Filière EndoSud IDF,RCP
ATTACH;FMTTYPE=image/jpeg:https://www.endo-idf.fr/wp-content/uploads/2023/12/RCP-img-event.jpg
END:VEVENT
BEGIN:VEVENT
DTSTART;TZID=Europe/Paris:20240412T090000
DTEND;TZID=Europe/Paris:20240412T100000
DTSTAMP:20260424T161241
CREATED:20240206T153947Z
LAST-MODIFIED:20240206T210009Z
UID:121849-1712912400-1712916000@www.endo-idf.fr
SUMMARY:Réunion de concertation pluridisciplinaire (RCP)
DESCRIPTION:Réunion de concertation pluridisciplinaire (RCP) de l’Hôpital La Pitié-Salpêtrière \n\nPour participer à cette RCP ou pour toute demande d’information\, vous pouvez contacter :\nAnne CONAN-FRAYSSE : aconanfraysse@hopital-dcss.org
URL:https://www.endo-idf.fr/evenement/reunion-de-concertation-pluridisciplinaire-rcp-15/
LOCATION:Hôpital La Pitié-Salpêtrière\, 47-83 boulevard de l'Hôpital\, PARIS\, 75012\, France
CATEGORIES:Filière Endo Nord-Est,RCP
ATTACH;FMTTYPE=image/jpeg:https://www.endo-idf.fr/wp-content/uploads/2023/12/RCP-img-event.jpg
END:VEVENT
BEGIN:VEVENT
DTSTART;VALUE=DATE:20240418
DTEND;VALUE=DATE:20240421
DTSTAMP:20260424T161241
CREATED:20240214T171916Z
LAST-MODIFIED:20240214T172325Z
UID:122019-1713398400-1713657599@www.endo-idf.fr
SUMMARY:SEUD- CONGRESS
DESCRIPTION:[vc_row][vc_column][vc_column_text uncode_shortcode_id=”189468″] \n\n\n\n\nWelcome to SEUD in Switzerland from April 18th to 20th 2024\n\n\n\n\n\nDear esteemed participants\, \nOn behalf of the SEUD board members and the local committee\, it is our great pleasure to extend a warm welcome to the 10th SEUD Annual Meeting\, which will take place in the beautiful city of Geneva\, Switzerland.\nWe are thrilled to bring together a diverse group of professionals from around the world who are dedicated to advancing the field of gynecology and reproductive health. \nThis year’s meeting promises to be an extraordinary event\, focusing on «New Insights in Individualization Precision and Strategy in the Treatment of Endometriosis and Uterine Disorders.» We have carefully curated a program that encompasses the latest advancements\, cutting-edge research\, and innovative techniques in the field. \nIn addition to the enlightening scientific sessions\, we have introduced a new format for the agenda that aims to optimize your learning experience. The program will feature interactive workshops\, panel discussions\, case presentations and debates\, allowing for a dynamic exchange of ideas and experiences. We encourage you to actively engage in these sessions\, as they will provide invaluable opportunities for professional growth and networking. \n\n\n\n\n\n\nFurthermore\, we are proud to dedicate Saturday morning of the conference to address an important global health issue—the challenges surrounding endometriosis and abnormal uterine bleeding in emerging countries. \nWe recognize that these conditions not only impact women’s health but also have far-reaching social and economic implications in these regions. We will explore strategies to improve access to healthcare services\, enhance diagnostic capabilities\, and implement cost-effective treatment options.\nWe extend our heartfelt gratitude to all the participants\, speakers\, sponsors\, and organizing committee members who have made this event possible. Your presence and active participation will make SEUD 10th Annual Meeting a memorable and transformative experience. \nWe look forward to welcoming you to Geneva\, a city renowned for its beauty\, culture\, and scientific heritage. Let us join hands and advance the frontiers of gynecology and reproductive health together. \nWarmest regards\, \nThe Congress Presidents\nMichael D Mueller\, Nicola Pluchino \n\n\n\n\n\n\n\n\n\n  \n\n\n\n\n\n\n\n\n\n\n\n\n\n\n  \nContact : \nAurélie Tourret\n+33 (0)6 09 10 54 16\na.tourret@comnco.com \n  \n[/vc_column_text][/vc_column][/vc_row]
URL:https://www.endo-idf.fr/evenement/seud-congress/
LOCATION:suisse\, Rue de Varembé\, Genève\, Suisse
CATEGORIES:Congrès,Evénement Pro,Filière 78-95 Voyelle,Filière Centre-Ouest,Filière Endo Centre-Ouest,Filière Endo Nord-Est,Filière EndoSud IDF
ATTACH;FMTTYPE=image/jpeg:https://www.endo-idf.fr/wp-content/uploads/2024/02/Doc1_page-0001.jpg
END:VEVENT
BEGIN:VEVENT
DTSTART;TZID=Europe/Paris:20240422T120000
DTEND;TZID=Europe/Paris:20240422T130000
DTSTAMP:20260424T161241
CREATED:20240212T115943Z
LAST-MODIFIED:20240212T181626Z
UID:121944-1713787200-1713790800@www.endo-idf.fr
SUMMARY:Réunion de concertation pluridisciplinaire (RCP)
DESCRIPTION:Réunion de concertation pluridisciplinaire (RCP) du centre de l’endométriose de l’Hôpital Privé d’Antony \n\nPour participer à cette RCP ou pour toute demande d’information\, vous pouvez contacter la secrétaire Madame Albertini 01 46 00 76 01 ou par mail gyneco.hpa@gmail.com \n\nLieu : Radiologie salle de scanner 2\, 27 Avenue de la Providence 92 160 Antony \n\n\n 
URL:https://www.endo-idf.fr/evenement/reunion-de-concertation-pluridisciplinaire-rcp-26/
LOCATION:Hopital Privé d’Antony\, 1 Rue Velpeau\, ANTONY\, 92160
CATEGORIES:Filière EndoSud IDF,RCP
ATTACH;FMTTYPE=image/jpeg:https://www.endo-idf.fr/wp-content/uploads/2023/12/RCP-img-event.jpg
END:VEVENT
BEGIN:VEVENT
DTSTART;TZID=Europe/Paris:20240424T200000
DTEND;TZID=Europe/Paris:20240424T220000
DTSTAMP:20260424T161241
CREATED:20240402T102903Z
LAST-MODIFIED:20240409T152623Z
UID:122299-1713988800-1713996000@www.endo-idf.fr
SUMMARY:Soirée thématique à l'HIA Bégin : L'ENDOMÉTRIOSE
DESCRIPTION:Nous sommes ravies de vous convier à une soirée thématique consacrée à l’endométriose\, le mercredi 24 avril de 20h à 22h (accueil autour d’un buffet convivial à partir de 19h30)\, à l’Hôpital d’Instruction des Armées (salle de conférence Meyran). \nPlusieurs thèmes seront abordés  : \n\nLes travaux de la CPTS\nLes généralités sur le parcours de soins\nLa filière EndoSud IDF\nL’offre sur le territoire avec :\n\nL’imagerie médicale\nLes soins de support\n\n\n\nVous êtes invités à vous inscrire avant le 20 avril 2024 : contact@cptsautourdubois.fr.
URL:https://www.endo-idf.fr/evenement/soiree-thematique-a-lhia-begin-lendometriose/
LOCATION:Hôpital d’Instruction des Armées Bégin\, 69 avenue de Paris\, Saint-Mandé\, 94160\, France
CATEGORIES:Evénement Pro,Filière EndoSud IDF
ATTACH;FMTTYPE=application/pdf:https://www.endo-idf.fr/wp-content/uploads/2024/04/CPTS-endometriose_soiree-du-24-04-2024-2.pdf
END:VEVENT
BEGIN:VEVENT
DTSTART;TZID=Europe/Paris:20240425T183000
DTEND;TZID=Europe/Paris:20240425T193000
DTSTAMP:20260424T161241
CREATED:20240206T211002Z
LAST-MODIFIED:20240207T130332Z
UID:121886-1714069800-1714073400@www.endo-idf.fr
SUMMARY:Réunion de concertation pluridisciplinaire (RCP)
DESCRIPTION:Réunion de concertation pluridisciplinaire (RCP) du centre de l’endométriose de l’hôpital Saint-Joseph \n\nPour participer à cette RCP ou pour toute demande d’information\, vous pouvez contacter :\nTessa Boisne : endometriose@ghpsj.fr \nNous vous attendons à partir de 18h30 à la salle d’imagerie (à droite en entrant par l’entrée principale) ou en salle de conférence (batiment NDBS porte 10 niveau G).\nIl est possible d’assister à cette RCP en distanciel (visio).
URL:https://www.endo-idf.fr/evenement/reunion-de-concertation-pluridisciplinaire-rcp-19/
LOCATION:Hôpital Paris Saint-Joseph\, 185 Rue Raymond Losserand\, Paris\, 75014\, France
CATEGORIES:Filière EndoSud IDF,RCP
ATTACH;FMTTYPE=image/jpeg:https://www.endo-idf.fr/wp-content/uploads/2023/12/RCP-img-event.jpg
END:VEVENT
BEGIN:VEVENT
DTSTART;TZID=Europe/Paris:20240425T183000
DTEND;TZID=Europe/Paris:20240425T193000
DTSTAMP:20260424T161241
CREATED:20240320T154957Z
LAST-MODIFIED:20240320T155027Z
UID:122209-1714069800-1714073400@www.endo-idf.fr
SUMMARY:Réunion de concertation pluridisciplinaire (RCP)
DESCRIPTION:Réunion de concertation pluridisciplinaire (RCP) à l’Hôpital de la Croix-Saint-Simon \n\nPour participer à cette RCP ou pour toute demande d’information\, vous pouvez contacter aconanfraysse@hopital-dcss.org \n\n  \n\n 
URL:https://www.endo-idf.fr/evenement/reunion-de-concertation-pluridisciplinaire-rcp-39/
LOCATION:Hôpital de la Croix-Saint-Simon\, 125 rue d'Avron\, PARIS\, 750020\, France
CATEGORIES:Filière Endo Nord-Est,RCP
ATTACH;FMTTYPE=image/jpeg:https://www.endo-idf.fr/wp-content/uploads/2023/12/RCP-img-event.jpg
END:VEVENT
BEGIN:VEVENT
DTSTART;TZID=Europe/Paris:20240425T190000
DTEND;TZID=Europe/Paris:20240425T203000
DTSTAMP:20260424T161241
CREATED:20240214T095409Z
LAST-MODIFIED:20240214T095507Z
UID:122009-1714071600-1714077000@www.endo-idf.fr
SUMMARY:Réunion de concertation pluridisciplinaire (RCP)
DESCRIPTION:Réunion de concertation pluridisciplinaire (RCP) à l’Institut de la Femme et de l’Endométriose (IFEEN) \n\nPour participer à cette RCP ou pour toute demande d’information\, vous pouvez faire votre demande en remplissant le formulaire de contact sur le site ifeen.fr  \n\n  \n\n 
URL:https://www.endo-idf.fr/evenement/reunion-de-concertation-pluridisciplinaire-rcp-34/
LOCATION:IFEEN\, 5 All. Arnaud Beltrame\, Paris\, 75003\, France
CATEGORIES:Filière EndoSud IDF,RCP
ATTACH;FMTTYPE=image/jpeg:https://www.endo-idf.fr/wp-content/uploads/2023/12/RCP-img-event.jpg
END:VEVENT
BEGIN:VEVENT
DTSTART;VALUE=DATE:20240426
DTEND;VALUE=DATE:20240427
DTSTAMP:20260424T161241
CREATED:20240205T093052Z
LAST-MODIFIED:20240205T103106Z
UID:121802-1714089600-1714175999@www.endo-idf.fr
SUMMARY:JSG Port-Royal
DESCRIPTION:[vc_row][vc_column width=”1/1″][vc_column_text]JSG Port-Royal\, Journée Scientifique de Gynécologie de Port-Royal \nInformation et organisation :\nCom&Co\nLaetitia Passedat\n06 14 10 46 67\nl.passedat@comnco.com\n[/vc_column_text][/vc_column][/vc_row]
URL:https://www.endo-idf.fr/evenement/jsg/
LOCATION:Faculté de Médecine – Site Cordeliers – Université Paris Cité\, 15\, Rue de l'École de Médecine\, Paris\, 75006
CATEGORIES:Evénement Pro,Filière EndoSud IDF
ATTACH;FMTTYPE=image/jpeg:https://www.endo-idf.fr/wp-content/uploads/2024/02/vignette-cy-cochin-10-450x250-1.jpg
END:VEVENT
BEGIN:VEVENT
DTSTART;TZID=Europe/Paris:20240426T090000
DTEND;TZID=Europe/Paris:20240426T100000
DTSTAMP:20260424T161241
CREATED:20240206T154033Z
LAST-MODIFIED:20240206T205907Z
UID:121851-1714122000-1714125600@www.endo-idf.fr
SUMMARY:Réunion de concertation pluridisciplinaire (RCP)
DESCRIPTION:Réunion de concertation pluridisciplinaire (RCP) de l’Hôpital La Pitié-Salpêtrière \n\nPour participer à cette RCP ou pour toute demande d’information\, vous pouvez contacter :\nAnne CONAN-FRAYSSE : aconanfraysse@hopital-dcss.org
URL:https://www.endo-idf.fr/evenement/reunion-de-concertation-pluridisciplinaire-rcp-16/
LOCATION:Hôpital La Pitié-Salpêtrière\, 47-83 boulevard de l'Hôpital\, PARIS\, 75012\, France
CATEGORIES:Filière Endo Nord-Est,RCP
ATTACH;FMTTYPE=image/jpeg:https://www.endo-idf.fr/wp-content/uploads/2023/12/RCP-img-event.jpg
END:VEVENT
BEGIN:VEVENT
DTSTART;TZID=Europe/Paris:20240429T093000
DTEND;TZID=Europe/Paris:20240429T103000
DTSTAMP:20260424T161241
CREATED:20240426T074505Z
LAST-MODIFIED:20240426T074505Z
UID:122538-1714383000-1714386600@www.endo-idf.fr
SUMMARY:Réunion de concertation pluridisciplinaire (RCP)
DESCRIPTION:Réunion de concertation pluridisciplinaire (RCP) de l’Hopital Foch \n\nPour participer ou pour toute demande d’information\, vous pouvez contacter le secrétariat au 01 46 25 27 99 ou écrire à l’adresse email suivante : centre-douleurgyneco@hopital-foch.com \n 
URL:https://www.endo-idf.fr/evenement/reunion-de-concertation-pluridisciplinaire-rcp-40/
LOCATION:Hopital Foch
CATEGORIES:Filière Endo Centre-Ouest,RCP
ATTACH;FMTTYPE=image/jpeg:https://www.endo-idf.fr/wp-content/uploads/2023/12/RCP-img-event.jpg
END:VEVENT
END:VCALENDAR