BEGIN:VCALENDAR
VERSION:2.0
PRODID:-//EndoIDF - ECPv6.2.0.1//NONSGML v1.0//EN
CALSCALE:GREGORIAN
METHOD:PUBLISH
X-ORIGINAL-URL:https://www.endo-idf.fr
X-WR-CALDESC:évènements pour EndoIDF
REFRESH-INTERVAL;VALUE=DURATION:PT1H
X-Robots-Tag:noindex
X-PUBLISHED-TTL:PT1H
BEGIN:VTIMEZONE
TZID:Europe/Paris
BEGIN:DAYLIGHT
TZOFFSETFROM:+0100
TZOFFSETTO:+0200
TZNAME:CEST
DTSTART:20240331T010000
END:DAYLIGHT
BEGIN:STANDARD
TZOFFSETFROM:+0200
TZOFFSETTO:+0100
TZNAME:CET
DTSTART:20241027T010000
END:STANDARD
END:VTIMEZONE
BEGIN:VEVENT
DTSTART;VALUE=DATE:20240302
DTEND;VALUE=DATE:20240303
DTSTAMP:20260424T175159
CREATED:20240212T224829Z
LAST-MODIFIED:20240212T224829Z
UID:121997-1709337600-1709423999@www.endo-idf.fr
SUMMARY:2ième journée d'école d'écho gynécologique et foetale
DESCRIPTION:[vc_row][vc_column width=”1/1″][vc_column_text uncode_shortcode_id=”462730″]De l’imagerie au parcours de soin \nObjectifs fertilité 2024 \nAu Studio 444 à Courbevoie \nOrganisation :\nEdwige HURTELOUP\, Candice PHILIPPE\nL.E.N. MÉDICAL – 56\, bd de la Mission Marchand\n[/vc_column_text][/vc_column][/vc_row]
URL:https://www.endo-idf.fr/evenement/2ieme-journee-decole-decho-gynecologique-et-foetale/
LOCATION:Studio 444\, Courbevoie\, 92400
CATEGORIES:Evénement Pro,Filière EndoSud IDF
ATTACH;FMTTYPE=image/jpeg:https://www.endo-idf.fr/wp-content/uploads/2024/02/PROGRAMME-ECHO-ECHO-2-MARS-2024_page-0001.jpg
END:VEVENT
BEGIN:VEVENT
DTSTART;TZID=Europe/Paris:20240306T183000
DTEND;TZID=Europe/Paris:20240306T203000
DTSTAMP:20260424T175159
CREATED:20240109T133822Z
LAST-MODIFIED:20240207T131144Z
UID:121445-1709749800-1709757000@www.endo-idf.fr
SUMMARY:Réunion de concertation pluridisciplinaire (RCP)
DESCRIPTION:Réunion de concertation pluridisciplinaire (RCP) du Groupe Hospitalier Privé Ambroise Paré-Hartmann \n\nPour participer ou pour toute demande d’information\, vous pouvez contacter :\nMme Corinne BERDA – corinne.berda@clinique-a-pare.fr\nMme Rizlane M’HAMED – rcp.secretaire@clinique-a-pare.fr
URL:https://www.endo-idf.fr/evenement/reunion-de-concertation-pluridisciplinaire-rcp-3/
LOCATION:Groupe Hospitalier Privé Ambroise Paré-Hartmann\, Neuilly-sur-Seine\, France
CATEGORIES:Filière Endo Centre-Ouest,RCP
ATTACH;FMTTYPE=image/jpeg:https://www.endo-idf.fr/wp-content/uploads/2023/12/RCP-img-event.jpg
END:VEVENT
BEGIN:VEVENT
DTSTART;TZID=Europe/Paris:20240306T190000
DTEND;TZID=Europe/Paris:20240306T203000
DTSTAMP:20260424T175159
CREATED:20240214T095223Z
LAST-MODIFIED:20240214T112702Z
UID:122007-1709751600-1709757000@www.endo-idf.fr
SUMMARY:Réunion de concertation pluridisciplinaire (RCP)
DESCRIPTION:Réunion de concertation pluridisciplinaire (RCP) à l’Institut de la Femme et de l’Endométriose (IFEEN) \n\nPour participer à cette RCP ou pour toute demande d’information\, vous pouvez faire votre demande en remplissant le formulaire de contact sur le site ifeen.fr  \n\n  \n\n 
URL:https://www.endo-idf.fr/evenement/reunion-de-concertation-pluridisciplinaire-rcp-33/
LOCATION:IFEEN\, 5 All. Arnaud Beltrame\, Paris\, 75003\, France
CATEGORIES:Filière EndoSud IDF,RCP
ATTACH;FMTTYPE=image/jpeg:https://www.endo-idf.fr/wp-content/uploads/2023/12/RCP-img-event.jpg
END:VEVENT
BEGIN:VEVENT
DTSTART;VALUE=DATE:20240307
DTEND;VALUE=DATE:20240309
DTSTAMP:20260424T175159
CREATED:20231207T145350Z
LAST-MODIFIED:20240212T103052Z
UID:120324-1709769600-1709942399@www.endo-idf.fr
SUMMARY:Journées GynFoch 2024
DESCRIPTION:[vc_row][vc_column width=”1/1″][vc_column_text uncode_shortcode_id=”373085″]Ne manquez pas la prochaine édition des Journées GynFoch les Jeudi 7 & Vendredi 8 Mars 2024\, présidées par le professeur Jean Marc AYOUBI aux Salons Hoche. Un congrès international organisé sous l’égide du Service de Gynécologie Obstétrique et Médecine de la Reproduction de l’Hôpital FOCH. \nIl s’agit de deux journées médicales organisées par et pour les professionnels de santé afin de permettre à de nombreux spécialistes français et internationaux de prendre la parole\, de présenter et d’échanger sur les récentes études et dernières publications scientifiques. L’objectif étant d’optimiser la compréhension de l’endométriose\, l’infertilité et l’assistance médicale à la procréation (AMP) afin de mieux les prendre en charge au quotidien.[/vc_column_text][vc_row_inner][vc_column_inner width=”1/2″][vc_button border_width=”0″ link=”url:https%3A%2F%2Fwww.endo-idf.fr%2Fwp-content%2Fuploads%2F2024%2F02%2FGynFoch_PROGRAMME_8fevrier-avec-logos.pdf|title:Inscriptions|target:_blank” uncode_shortcode_id=”201882″]Télécharger le programme[/vc_button][/vc_column_inner][vc_column_inner width=”1/2″][vc_button border_width=”0″ link=”url:https%3A%2F%2Fregimedia.fr%2Fproduit%2Fjournee-gynfoch-2024|title:Inscriptions%20|target:_blank” uncode_shortcode_id=”210200″]Je m’inscris [/vc_button][/vc_column_inner][/vc_row_inner][/vc_column][/vc_row]
URL:https://www.endo-idf.fr/evenement/journees-gynfoch-2024/
LOCATION:Salons Hoche\, Paris\, 9 avenue Hoche\, Paris\, 75008\, France
CATEGORIES:Filière Endo Centre-Ouest
ATTACH;FMTTYPE=image/png:https://www.endo-idf.fr/wp-content/uploads/2023/11/GynFoch2024-Image.png
END:VEVENT
BEGIN:VEVENT
DTSTART;TZID=Europe/Paris:20240307T183000
DTEND;TZID=Europe/Paris:20240307T193000
DTSTAMP:20260424T175159
CREATED:20240206T152613Z
LAST-MODIFIED:20240206T210050Z
UID:121837-1709836200-1709839800@www.endo-idf.fr
SUMMARY:Réunion de concertation pluridisciplinaire (RCP)
DESCRIPTION:Réunion de concertation pluridisciplinaire (RCP) de la Clinique de l’Estrée  \n\nPour participer à cette RCP ou pour toute demande d’information\, vous pouvez contacter :\nAnne CONAN-FRAYSSE : aconanfraysse@hopital-dcss.org
URL:https://www.endo-idf.fr/evenement/reunion-de-concertation-pluridisciplinaire-rcp-12/
LOCATION:Clinique de l’Estrée\, 35 Rue d'Amiens\, Stains\, 93240\, France
CATEGORIES:Filière Endo Nord-Est,RCP
ATTACH;FMTTYPE=image/jpeg:https://www.endo-idf.fr/wp-content/uploads/2023/12/RCP-img-event.jpg
END:VEVENT
BEGIN:VEVENT
DTSTART;TZID=Europe/Paris:20240308T090000
DTEND;TZID=Europe/Paris:20240308T170000
DTSTAMP:20260424T175159
CREATED:20231220T112559Z
LAST-MODIFIED:20240206T210050Z
UID:121085-1709888400-1709917200@www.endo-idf.fr
SUMMARY:Journées Portes Ouvertes Endométriose
DESCRIPTION:Venez échanger avec les professionnels\, participer aux ateliers et rencontrer les associations Endomind et Endofrance lors des JPO endométriose de l’hôpital Saint-Joseph. \nEn collaboration avec le réseau resendo\, les associations de patientes et le centre de l’endométriose de Saint-Joseph. \nProgramme détaillé à venir
URL:https://www.endo-idf.fr/evenement/journees-portes-ouvertes-endometriose/
LOCATION:Hôpital Paris Saint-Joseph\, 185 Rue Raymond Losserand\, Paris\, 75014\, France
CATEGORIES:Evénement Patient,Evénement Pro,Filière Endo Nord-Est,Filière EndoSud IDF
ATTACH;FMTTYPE=image/jpeg:https://www.endo-idf.fr/wp-content/uploads/2023/12/stjoseph-img-event.jpg
END:VEVENT
BEGIN:VEVENT
DTSTART;VALUE=DATE:20240313
DTEND;VALUE=DATE:20240316
DTSTAMP:20260424T175159
CREATED:20240212T184422Z
LAST-MODIFIED:20240212T184753Z
UID:121985-1710288000-1710547199@www.endo-idf.fr
SUMMARY:33 ième salon de Gynécologie Obstétrique Pratique
DESCRIPTION:GOP au Palais des Congrès de Paris avec une session Endométriose le 15 mars. \n 
URL:https://www.endo-idf.fr/evenement/33-ieme-salon-de-gynecologie-obstetrique-pratique/
LOCATION:Palais des Congrès\, Porte Maillot\, PARIS
CATEGORIES:Congrès,Evénement Pro,Filière 78-95 Voyelle,Filière Centre-Ouest,Filière Endo Centre-Ouest,Filière Endo Nord-Est,Filière EndoSud IDF
ATTACH;FMTTYPE=image/jpeg:https://www.endo-idf.fr/wp-content/uploads/2024/02/Gynecologie-Obstetrique-Pratique-PALAIS-DES-CONGRES_page-0001.jpg
END:VEVENT
BEGIN:VEVENT
DTSTART;TZID=Europe/Paris:20240314T170000
DTEND;TZID=Europe/Paris:20240314T183000
DTSTAMP:20260424T175159
CREATED:20240212T120045Z
LAST-MODIFIED:20240212T182258Z
UID:121947-1710435600-1710441000@www.endo-idf.fr
SUMMARY:Réunion de concertation pluridisciplinaire (RCP)
DESCRIPTION:Réunion de concertation pluridisciplinaire (RCP) du centre de l’endométriose de l’Hôpital Intercommunal de Créteil  \n\nPour participer à cette RCP ou pour toute demande d’information\, vous pouvez contacter la secrétaire Madame Silva-Azenha 01 57 02 22 44 ou par mail nathalie.silva-azenha@chicreteil.fr \nLieu : Bâtiment C 1 er étage salle de staff \n 
URL:https://www.endo-idf.fr/evenement/reunion-de-concertation-pluridisciplinaire-rcp-27/
LOCATION:Hopital Intercommunal Créteil\, 40 Avenue de Verdun\, CRETEIL\, 94010
CATEGORIES:Filière EndoSud IDF,RCP
ATTACH;FMTTYPE=image/jpeg:https://www.endo-idf.fr/wp-content/uploads/2023/12/RCP-img-event.jpg
END:VEVENT
BEGIN:VEVENT
DTSTART;TZID=Europe/Paris:20240314T180000
DTEND;TZID=Europe/Paris:20240314T193000
DTSTAMP:20260424T175159
CREATED:20240304T122507Z
LAST-MODIFIED:20240304T122507Z
UID:122089-1710439200-1710444600@www.endo-idf.fr
SUMMARY:Réunion de concertation pluridisciplinaire (RCP)
DESCRIPTION:Réunion de concertation pluridisciplinaire (RCP) à l’Hôpital de la Croix-Saint-Simon \n\nPour participer à cette RCP ou pour toute demande d’information\, vous pouvez contacter :\nAnne CONAN-FRAYSSE : aconanfraysse@hopital-dcss.org
URL:https://www.endo-idf.fr/evenement/reunion-de-concertation-pluridisciplinaire-rcp-32/
LOCATION:Hôpital de la Croix-Saint-Simon\, 125 rue d'Avron\, PARIS\, 750020\, France
CATEGORIES:Filière Endo Nord-Est,RCP
ATTACH;FMTTYPE=image/jpeg:https://www.endo-idf.fr/wp-content/uploads/2023/12/RCP-img-event.jpg
END:VEVENT
BEGIN:VEVENT
DTSTART;TZID=Europe/Paris:20240314T183000
DTEND;TZID=Europe/Paris:20240314T193000
DTSTAMP:20260424T175159
CREATED:20240206T210325Z
LAST-MODIFIED:20240207T130446Z
UID:121874-1710441000-1710444600@www.endo-idf.fr
SUMMARY:Réunion de concertation pluridisciplinaire (RCP)
DESCRIPTION:Réunion de concertation pluridisciplinaire (RCP) du centre de l’endométriose de l’hôpital Saint-Joseph \n\nPour participer à cette RCP ou pour toute demande d’information\, vous pouvez contacter :\nTessa Boisne : endometriose@ghpsj.fr \nNous vous attendons à partir de 18h30 à la salle d’imagerie (à droite en entrant par l’entrée principale) ou en salle de conférence (batiment NDBS porte 10 niveau G).\nIl est possible d’assister à cette RCP en distanciel (visio).
URL:https://www.endo-idf.fr/evenement/reunion-de-concertation-pluridisciplinaire-rcp-18/
LOCATION:Hôpital Paris Saint-Joseph\, 185 Rue Raymond Losserand\, Paris\, 75014\, France
CATEGORIES:Filière EndoSud IDF,RCP
ATTACH;FMTTYPE=image/jpeg:https://www.endo-idf.fr/wp-content/uploads/2023/12/RCP-img-event.jpg
END:VEVENT
BEGIN:VEVENT
DTSTART;TZID=Europe/Paris:20240315T090000
DTEND;TZID=Europe/Paris:20240315T100000
DTSTAMP:20260424T175159
CREATED:20240130T144917Z
LAST-MODIFIED:20240130T144917Z
UID:121732-1710493200-1710496800@www.endo-idf.fr
SUMMARY:Réunion de concertation pluridisciplinaire (RCP)
DESCRIPTION:Réunion de concertation pluridisciplinaire (RCP) de l’Hôpital La Pitié-Salpêtrière \n\nPour participer à cette RCP ou pour toute demande d’information\, vous pouvez contacter :\nAnne CONAN-FRAYSSE : aconanfraysse@hopital-dcss.org
URL:https://www.endo-idf.fr/evenement/reunion-de-concertation-pluridisciplinaire-rcp-11/
LOCATION:Hôpital La Pitié-Salpêtrière\, 47-83 boulevard de l'Hôpital\, PARIS\, 75012\, France
CATEGORIES:RCP
ATTACH;FMTTYPE=image/jpeg:https://www.endo-idf.fr/wp-content/uploads/2023/12/RCP-img-event.jpg
END:VEVENT
BEGIN:VEVENT
DTSTART;TZID=Europe/Paris:20240321T190000
DTEND;TZID=Europe/Paris:20240321T190000
DTSTAMP:20260424T175159
CREATED:20240304T130736Z
LAST-MODIFIED:20240304T130757Z
UID:122093-1711047600-1711047600@www.endo-idf.fr
SUMMARY:Réunion de concertation pluridisciplinaire (RCP)
DESCRIPTION:Réunion de concertation pluridisciplinaire (RCP) de pelvipérinéologie et endométriose
URL:https://www.endo-idf.fr/evenement/reunion-de-concertation-pluridisciplinaire-rcp-37/
LOCATION:Hôpital privée Paul d’Egine – Ramsay Santé\, 35 Rue de Musselburgh\, Champigny-sur-Marne\, 94500\, France
CATEGORIES:Filière EndoSud IDF,RCP
END:VEVENT
BEGIN:VEVENT
DTSTART;TZID=Europe/Paris:20240323T140000
DTEND;TZID=Europe/Paris:20240323T170000
DTSTAMP:20260424T175159
CREATED:20240209T163053Z
LAST-MODIFIED:20240209T163053Z
UID:121926-1711202400-1711213200@www.endo-idf.fr
SUMMARY:Save the date pour l'EndoMarch 2024 !!!
DESCRIPTION:[vc_row][vc_column width=”1/1″][vc_column_text uncode_shortcode_id=”165555″]L’association EndoMind organise sa 5ème EndoMarch !!! \nRetrouvez-nous sur le parvis de la Mairie du 15ème arrondissement de Paris samedi 23 mars prochain à partir de 14h\, pour une marche de mobilisation collective\, dans la joie et la bonne humeur ! \nLes représentantes des 4 filières d’Ile-de-France auront le plaisir de vous accueillir sur leur stand.[/vc_column_text][/vc_column][/vc_row]
URL:https://www.endo-idf.fr/evenement/save-the-date-pour-lendomarch-2024/
LOCATION:Mairie du 15ème arrondissement de Paris\, 31 rue Peclet\, Paris\, 75015\, France
ATTACH;FMTTYPE=image/jpeg:https://www.endo-idf.fr/wp-content/uploads/2024/02/Visuel-ENDOmarch-20241.jpg
END:VEVENT
BEGIN:VEVENT
DTSTART;TZID=Europe/Paris:20240325T120000
DTEND;TZID=Europe/Paris:20240325T130000
DTSTAMP:20260424T175159
CREATED:20240212T115636Z
LAST-MODIFIED:20240212T181749Z
UID:121940-1711368000-1711371600@www.endo-idf.fr
SUMMARY:Réunion de concertation pluridisciplinaire (RCP)
DESCRIPTION:Réunion de concertation pluridisciplinaire (RCP) du centre de l’endométriose de l’Hôpital Privé d’Antony \n\nPour participer à cette RCP ou pour toute demande d’information\, vous pouvez contacter la secrétaire Madame Albertini 01 46 00 76 01 ou par mail gyneco.hpa@gmail.com \n\nLieu : Radiologie salle de scanner 2\, 27 Avenue de la Providence 92 160 Antony \n\n\n 
URL:https://www.endo-idf.fr/evenement/reunion-de-concertation-pluridisciplinaire-rcp-24/
LOCATION:Hopital Privé d’Antony\, 1 Rue Velpeau\, ANTONY\, 92160
CATEGORIES:Filière EndoSud IDF,RCP
ATTACH;FMTTYPE=image/jpeg:https://www.endo-idf.fr/wp-content/uploads/2023/12/RCP-img-event.jpg
END:VEVENT
BEGIN:VEVENT
DTSTART;TZID=Europe/Paris:20240326T193000
DTEND;TZID=Europe/Paris:20240326T203000
DTSTAMP:20260424T175159
CREATED:20240325T101642Z
LAST-MODIFIED:20240409T152442Z
UID:122229-1711481400-1711485000@www.endo-idf.fr
SUMMARY:Webinaires : "Santé de la femme"\, dédiés à l'endométriose
DESCRIPTION:Nous avons le plaisir de vous convier à une série de webinaires “Santé de la femme”\, dédiés à l’endométriose. \nLes webinaires auront lieu chaque mardi de 19h30 à 20h30. \nCe mardi 26 mars 2024\, le Docteur Elise Furet chirurgienne en endométriose abordera la question pratique de : “Quand adresser une patiente au spécialiste chirurgien ?” \nCes sessions sont ouvertes à toutes et à tous. \nCi-joint le lien pour vous connecter. \nhttps://us06web.zoom.us/j/89266309975?pwd=oYeXbj7sFdiQbEaBMRRryb7mtvlPE9.1 \n 
URL:https://www.endo-idf.fr/evenement/webinaires-sante-de-la-femme-dedies-a-lendometriose/
CATEGORIES:Webinaire
ATTACH;FMTTYPE=image/jpeg:https://www.endo-idf.fr/wp-content/uploads/2024/03/PHOTO-WEBINAR.jpg
END:VEVENT
BEGIN:VEVENT
DTSTART;TZID=Europe/Paris:20240328T090000
DTEND;TZID=Europe/Paris:20240328T200000
DTSTAMP:20260424T175159
CREATED:20231218T124455Z
LAST-MODIFIED:20240122T095525Z
UID:121014-1711616400-1711656000@www.endo-idf.fr
SUMMARY:3ème journée de la santé de la femme
DESCRIPTION:[vc_row][vc_column][vc_column_text uncode_shortcode_id=”170697″]La 3ème journée de la santé de la femme est organisé par le Groupe Hospitalier Privé Ambroise Paré – Hartmann le Jeudi 28 Mars 2024 de 9h00 à 20h00. \nLors de cette formation réservée aux professionnels de santé\, une après-midi est consacrée à la thématique de l’Endométriose dans le cadre de la journée Mondial contre l’endométriose. De nombreuses conférences sont attendues ainsi qu’une table ronde ouverte au grand public avec entre autre la présence de Yasmine Candau\, présidente de l’association de patiente EndoFrance et de nos experts de la filière Endo Centre Ouest IDF\, tel que Dr Georges Bader\, Dr Julien Niro\, Pr Jean Marc Ayoubi\, Dr Vincent Villefranque et Dr Nizar Aflack. \nLe nombre de places est limité avec une inscription gratuite mais obligatoire[/vc_column_text][/vc_column][/vc_row][vc_row][vc_column width=”1/2″][vc_button border_width=”0″ link=”url:https%3A%2F%2Fwww.endo-idf.fr%2Fwp-content%2Fuploads%2F2023%2F12%2FInvitation-programme-2023-Journee-de-la-sante-de-la-femme.pdf|title:Inscription%20%C3%A0%20la%20journ%C3%A9e%20de%20la%20sant%C3%A9%20de%20la%20femme%20des%20cliniques%20Ambroise%20Par%C3%A9|target:_blank” uncode_shortcode_id=”506892″]Télécharger le programme[/vc_button][/vc_column][vc_column width=”1/2″][vc_button border_width=”0″ link=”url:https%3A%2F%2Fdocs.google.com%2Fforms%2Fd%2Fe%2F1FAIpQLSdzpOlmoLvOMz66XRNGOn0FQTELyCeYQeb7qPjQFI_bTWCZqw%2Fviewform|title:Inscription%20%C3%A0%20la%20journ%C3%A9e%20de%20la%20sant%C3%A9%20de%20la%20femme%20des%20cliniques%20Ambroise%20Par%C3%A9|target:_blank” uncode_shortcode_id=”146748″]Je m’inscris [/vc_button][/vc_column][/vc_row]
URL:https://www.endo-idf.fr/evenement/3eme-journee-de-la-sante-de-la-femme/
LOCATION:Cliniques Ambroise Paré\, Au 48ter boulevard Victor Hugo\, Neuilly-sur-Seine\, 92200\, France
CATEGORIES:Congrès,Filière Endo Centre-Ouest,Formation
ATTACH;FMTTYPE=image/png:https://www.endo-idf.fr/wp-content/uploads/2023/12/fiche-journee-de-la-sante-de-la-femme-28.03.2024.png
END:VEVENT
BEGIN:VEVENT
DTSTART;TZID=Europe/Paris:20240328T183000
DTEND;TZID=Europe/Paris:20240328T203000
DTSTAMP:20260424T175159
CREATED:20240315T153428Z
LAST-MODIFIED:20240315T161342Z
UID:122187-1711650600-1711657800@www.endo-idf.fr
SUMMARY:Webinaire à destination de tous les professionnels.les de santé en IDF\, le 28 mars à 18h30
DESCRIPTION:[vc_row][vc_column width=”1/2″][vc_column_text uncode_shortcode_id=”158058″]A l’occasion de la Journée Mondiale de l’Endométriose\, et deux ans après le lancement des 4 filières territoriales en Ile-de-France\, l’ARS vous propose un webinaire qui tentera de faire un état des lieux des actions menées et en cours\, et les perspectives pour les années à venir. \nDe nombreux acteurs de la santé (CPAM\, ARS\, représentants.tes des filières\, associations de patientes\, médecins de ville) contribueront à la richesse de cette soirée.[/vc_column_text][/vc_column][vc_column width=”1/2″][vc_column_text css_animation=”zoom-in” uncode_shortcode_id=”160723″]N’oubliez pas ! C’est jeudi 28 mars à 18h30 ! \nPour consulter le programme et vous inscrire\, c’est ici : \nhttps://framaforms.org/webinaire-le-28-mars-2024-a-18h30-organise-par-lars-ile-de-france-1706275103 \n[/vc_column_text][/vc_column][/vc_row][vc_row][vc_column width=”1/1″][vc_gallery][/vc_column][/vc_row]
URL:https://www.endo-idf.fr/evenement/webinaire-a-destination-de-tous-les-professionnels-les-de-sante-en-idf-le-28-mars-a-18h30/
CATEGORIES:Webinaire
ATTACH;FMTTYPE=image/jpeg:https://www.endo-idf.fr/wp-content/uploads/2024/03/PHOTO-WEBINAR.jpg
END:VEVENT
BEGIN:VEVENT
DTSTART;TZID=Europe/Paris:20240329T090000
DTEND;TZID=Europe/Paris:20240329T100000
DTSTAMP:20260424T175159
CREATED:20240130T144636Z
LAST-MODIFIED:20240206T210049Z
UID:121730-1711702800-1711706400@www.endo-idf.fr
SUMMARY:Réunion de concertation pluridisciplinaire (RCP)
DESCRIPTION:Réunion de concertation pluridisciplinaire (RCP) de l’Hôpital La Pitié-Salpêtrière \n\nPour participer à cette RCP ou pour toute demande d’information\, vous pouvez contacter :\nAnne CONAN-FRAYSSE : aconanfraysse@hopital-dcss.org
URL:https://www.endo-idf.fr/evenement/reunion-de-concertation-pluridisciplinaire-rcp-10/
LOCATION:Hôpital La Pitié-Salpêtrière\, 47-83 boulevard de l'Hôpital\, PARIS\, 75012\, France
CATEGORIES:Filière Endo Nord-Est,RCP
ATTACH;FMTTYPE=image/jpeg:https://www.endo-idf.fr/wp-content/uploads/2023/12/RCP-img-event.jpg
END:VEVENT
END:VCALENDAR