BEGIN:VCALENDAR
VERSION:2.0
PRODID:-//EndoIDF - ECPv6.2.0.1//NONSGML v1.0//EN
CALSCALE:GREGORIAN
METHOD:PUBLISH
X-WR-CALNAME:EndoIDF
X-ORIGINAL-URL:https://www.endo-idf.fr
X-WR-CALDESC:évènements pour EndoIDF
REFRESH-INTERVAL;VALUE=DURATION:PT1H
X-Robots-Tag:noindex
X-PUBLISHED-TTL:PT1H
BEGIN:VTIMEZONE
TZID:Europe/Paris
BEGIN:DAYLIGHT
TZOFFSETFROM:+0100
TZOFFSETTO:+0200
TZNAME:CEST
DTSTART:20240331T010000
END:DAYLIGHT
BEGIN:STANDARD
TZOFFSETFROM:+0200
TZOFFSETTO:+0100
TZNAME:CET
DTSTART:20241027T010000
END:STANDARD
END:VTIMEZONE
BEGIN:VEVENT
DTSTART;TZID=Europe/Paris:20240202T090000
DTEND;TZID=Europe/Paris:20240202T100000
DTSTAMP:20260424T192056
CREATED:20240130T144006Z
LAST-MODIFIED:20240206T205232Z
UID:121724-1706864400-1706868000@www.endo-idf.fr
SUMMARY:Réunion de concertation pluridisciplinaire (RCP)
DESCRIPTION:Réunion de concertation pluridisciplinaire (RCP) de l’Hôpital La Pitié-Salpêtrière \n\nPour participer à cette RCP ou pour toute demande d’information\, vous pouvez contacter :\nAnne CONAN-FRAYSSE : aconanfraysse@hopital-dcss.org
URL:https://www.endo-idf.fr/evenement/reunion-de-concertation-pluridisciplinaire-rcp-8/
LOCATION:Hôpital La Pitié-Salpêtrière\, 47-83 boulevard de l'Hôpital\, PARIS\, 75012\, France
CATEGORIES:Filière Endo Nord-Est,RCP
ATTACH;FMTTYPE=image/jpeg:https://www.endo-idf.fr/wp-content/uploads/2023/12/RCP-img-event.jpg
END:VEVENT
BEGIN:VEVENT
DTSTART;TZID=Europe/Paris:20240205T093000
DTEND;TZID=Europe/Paris:20240205T103000
DTSTAMP:20260424T192056
CREATED:20240124T161103Z
LAST-MODIFIED:20240206T205330Z
UID:121617-1707125400-1707129000@www.endo-idf.fr
SUMMARY:Réunion de concertation pluridisciplinaire (RCP)
DESCRIPTION:Réunion de concertation pluridisciplinaire (RCP) de l’Hopital Foch \n\nPour participer ou pour toute demande d’information\, vous pouvez contacter le secrétariat au 01 46 25 27 99 ou écrire à l’adresse email suivante : centre-douleurgyneco@hopital-foch.com \n 
URL:https://www.endo-idf.fr/evenement/reunion-de-concertation-pluridisciplinaire-rcp-6/
LOCATION:Hopital Foch
CATEGORIES:Filière Endo Centre-Ouest,RCP
ATTACH;FMTTYPE=image/jpeg:https://www.endo-idf.fr/wp-content/uploads/2023/12/RCP-img-event.jpg
END:VEVENT
BEGIN:VEVENT
DTSTART;TZID=Europe/Paris:20240207T183000
DTEND;TZID=Europe/Paris:20240207T203000
DTSTAMP:20260424T192056
CREATED:20240109T133444Z
LAST-MODIFIED:20240207T130936Z
UID:121443-1707330600-1707337800@www.endo-idf.fr
SUMMARY:Réunion de concertation pluridisciplinaire (RCP)
DESCRIPTION:Réunion de concertation pluridisciplinaire (RCP) du Groupe Hospitalier Privé Ambroise Paré-Hartmann \n\nPour participer ou pour toute demande d’information\, vous pouvez contacter :\nMme Corinne BERDA – corinne.berda@clinique-a-pare.fr\nMme Rizlane M’HAMED – rcp.secretaire@clinique-a-pare.fr
URL:https://www.endo-idf.fr/evenement/reunion-de-concertation-pluridisciplinaire-rcp-2/
LOCATION:Groupe Hospitalier Privé Ambroise Paré-Hartmann\, Neuilly-sur-Seine\, France
CATEGORIES:Filière Endo Centre-Ouest,RCP
ATTACH;FMTTYPE=image/jpeg:https://www.endo-idf.fr/wp-content/uploads/2023/12/RCP-img-event.jpg
END:VEVENT
BEGIN:VEVENT
DTSTART;TZID=Europe/Paris:20240215T183000
DTEND;TZID=Europe/Paris:20240215T193000
DTSTAMP:20260424T192056
CREATED:20240206T205721Z
LAST-MODIFIED:20240207T130704Z
UID:121869-1708021800-1708025400@www.endo-idf.fr
SUMMARY:Réunion de concertation pluridisciplinaire (RCP)
DESCRIPTION:Réunion de concertation pluridisciplinaire (RCP) du centre de l’endométriose de l’hôpital Saint-Joseph \n\nPour participer à cette RCP ou pour toute demande d’information\, vous pouvez contacter :\nTessa Boisne : endometriose@ghpsj.fr \nNous vous attendons à partir de 18h30 à la salle d’imagerie (à droite en entrant par l’entrée principale) ou en salle de conférence (batiment NDBS porte 10 niveau G).\nIl est possible d’assister à cette RCP en distanciel (visio).
URL:https://www.endo-idf.fr/evenement/reunion-de-concertation-pluridisciplinaire-rcp-17/
LOCATION:Hôpital La Pitié-Salpêtrière\, 47-83 boulevard de l'Hôpital\, PARIS\, 75012\, France
CATEGORIES:Filière EndoSud IDF,RCP
ATTACH;FMTTYPE=image/jpeg:https://www.endo-idf.fr/wp-content/uploads/2023/12/RCP-img-event.jpg
END:VEVENT
BEGIN:VEVENT
DTSTART;TZID=Europe/Paris:20240216T090000
DTEND;TZID=Europe/Paris:20240216T100000
DTSTAMP:20260424T192056
CREATED:20240130T144546Z
LAST-MODIFIED:20240206T205219Z
UID:121728-1708074000-1708077600@www.endo-idf.fr
SUMMARY:Réunion de concertation pluridisciplinaire (RCP)
DESCRIPTION:Réunion de concertation pluridisciplinaire (RCP) de l’Hôpital La Pitié-Salpêtrière \n\nPour participer à cette RCP ou pour toute demande d’information\, vous pouvez contacter :\nAnne CONAN-FRAYSSE : aconanfraysse@hopital-dcss.org
URL:https://www.endo-idf.fr/evenement/reunion-de-concertation-pluridisciplinaire-rcp-9/
LOCATION:Hôpital La Pitié-Salpêtrière\, 47-83 boulevard de l'Hôpital\, PARIS\, 75012\, France
CATEGORIES:Filière Endo Nord-Est,RCP
ATTACH;FMTTYPE=image/jpeg:https://www.endo-idf.fr/wp-content/uploads/2023/12/RCP-img-event.jpg
END:VEVENT
BEGIN:VEVENT
DTSTART;TZID=Europe/Paris:20240226T120000
DTEND;TZID=Europe/Paris:20240226T130000
DTSTAMP:20260424T192056
CREATED:20240212T115503Z
LAST-MODIFIED:20240212T181852Z
UID:121937-1708948800-1708952400@www.endo-idf.fr
SUMMARY:Réunion de concertation pluridisciplinaire (RCP)
DESCRIPTION:Réunion de concertation pluridisciplinaire (RCP) du centre de l’endométriose de l’Hôpital Privé d’Antony \n\nPour participer à cette RCP ou pour toute demande d’information\, vous pouvez contacter la secrétaire Madame Albertini 01 46 00 76 01 ou par mail gyneco.hpa@gmail.com \n\nLieu : Radiologie salle de scanner 2\, 27 Avenue de la Providence 92 160 Antony \n\n 
URL:https://www.endo-idf.fr/evenement/reunion-de-concertation-pluridisciplinaire-rcp-23/
LOCATION:Hopital Privé d’Antony\, 1 Rue Velpeau\, ANTONY\, 92160
CATEGORIES:Filière EndoSud IDF,RCP
ATTACH;FMTTYPE=image/jpeg:https://www.endo-idf.fr/wp-content/uploads/2023/12/RCP-img-event.jpg
END:VEVENT
BEGIN:VEVENT
DTSTART;TZID=Europe/Paris:20240227T190000
DTEND;TZID=Europe/Paris:20240227T213000
DTSTAMP:20260424T192056
CREATED:20240123T172821Z
LAST-MODIFIED:20240214T090951Z
UID:121609-1709060400-1709069400@www.endo-idf.fr
SUMMARY:Soirée Endométriose
DESCRIPTION:L’interCPTS91\, en partenariat avec la filière Endo IDF (Sud  et Nord Est)\, le réseau Périnat IF Sud et le Centre Hospitalier Sud Francilien et l’ARS vous convie à une soirée sur l’endométriose destinée aux professionnels de santé. \n 
URL:https://www.endo-idf.fr/evenement/soiree-endometriose/
LOCATION:conseil départemental de l’Essonne\, Bd de France\, Evry Courconnes\, 91012
CATEGORIES:Evénement Patient,Evénement Pro,Filière Endo Nord-Est,Filière EndoSud IDF
ATTACH;FMTTYPE=image/jpeg:https://www.endo-idf.fr/wp-content/uploads/2024/01/Flyer_endometriose_fev2024_page-0001.jpg
END:VEVENT
END:VCALENDAR