BEGIN:VCALENDAR
VERSION:2.0
PRODID:-//EndoIDF - ECPv6.2.0.1//NONSGML v1.0//EN
CALSCALE:GREGORIAN
METHOD:PUBLISH
X-WR-CALNAME:EndoIDF
X-ORIGINAL-URL:https://www.endo-idf.fr
X-WR-CALDESC:évènements pour EndoIDF
REFRESH-INTERVAL;VALUE=DURATION:PT1H
X-Robots-Tag:noindex
X-PUBLISHED-TTL:PT1H
BEGIN:VTIMEZONE
TZID:Europe/Paris
BEGIN:DAYLIGHT
TZOFFSETFROM:+0100
TZOFFSETTO:+0200
TZNAME:CEST
DTSTART:20240331T010000
END:DAYLIGHT
BEGIN:STANDARD
TZOFFSETFROM:+0200
TZOFFSETTO:+0100
TZNAME:CET
DTSTART:20241027T010000
END:STANDARD
END:VTIMEZONE
BEGIN:VEVENT
DTSTART;TZID=Europe/Paris:20240108T093000
DTEND;TZID=Europe/Paris:20240108T110000
DTSTAMP:20260424T205134
CREATED:20231218T154919Z
LAST-MODIFIED:20240207T131028Z
UID:121072-1704706200-1704711600@www.endo-idf.fr
SUMMARY:Réunion de Concertation Pluridisciplinaire - RCP
DESCRIPTION:Réunion de concertation pluridisciplinaire (RCP) de l’Hôpital Foch
URL:https://www.endo-idf.fr/evenement/rcp-reunion-de-concertation-pluridisciplinaire-2/
LOCATION:Hopital Foch
CATEGORIES:RCP
ATTACH;FMTTYPE=image/jpeg:https://www.endo-idf.fr/wp-content/uploads/2023/12/RCP-img-event.jpg
END:VEVENT
BEGIN:VEVENT
DTSTART;TZID=Europe/Paris:20240110T183000
DTEND;TZID=Europe/Paris:20240110T203000
DTSTAMP:20260424T205134
CREATED:20240109T133027Z
LAST-MODIFIED:20240122T093926Z
UID:121439-1704911400-1704918600@www.endo-idf.fr
SUMMARY:Réunion de Concertation Pluridisciplinaire – RCP
DESCRIPTION:Réunion de concertation pluridisciplinaire (RCP) du Groupe Hospitalier Privé Ambroise Paré-Hartmann \n\nPour participer ou pour toute demande d’information\, vous pouvez contacter :\nMme Corinne BERDA – corinne.berda@clinique-a-pare.fr\nMme Rizlane M’HAMED – rcp.secretaire@clinique-a-pare.fr
URL:https://www.endo-idf.fr/evenement/reunion-de-concertation-pluridisciplinaire-rcp/
LOCATION:Groupe Hospitalier Privé Ambroise Paré-Hartmann\, Neuilly-sur-Seine\, France
CATEGORIES:Filière Endo Centre-Ouest,RCP
ATTACH;FMTTYPE=image/jpeg:https://www.endo-idf.fr/wp-content/uploads/2023/12/RCP-img-event.jpg
END:VEVENT
BEGIN:VEVENT
DTSTART;TZID=Europe/Paris:20240112T145430
DTEND;TZID=Europe/Paris:20240112T145430
DTSTAMP:20260424T205134
CREATED:20240112T144909Z
LAST-MODIFIED:20240112T145429Z
UID:121481-1705071270-1705071270@www.endo-idf.fr
SUMMARY:Soirée Endométriose à Evry (91) le 27 février de 19h à 21h30
DESCRIPTION:
URL:https://www.endo-idf.fr/evenement/soiree-endometriose-a-evry-91-le-27-fevrier-de-19h-a-21h30/
CATEGORIES:Evénement Pro,Filière Endo Nord-Est,Filière EndoSud IDF
END:VEVENT
BEGIN:VEVENT
DTSTART;VALUE=DATE:20240116
DTEND;VALUE=DATE:20240117
DTSTAMP:20260424T205134
CREATED:20231218T131515Z
LAST-MODIFIED:20231220T110715Z
UID:121010-1705363200-1705449599@www.endo-idf.fr
SUMMARY:Formation DPC - Endométriose pour les professionnels de santé de Courbevoie
DESCRIPTION:[vc_row][vc_column width=”1/1″][vc_column_text uncode_shortcode_id=”732200″] \nCette formation DPC est réservée aux médecins de Courbevoie (92400).\nPour plus d’information et/ou inscription contacter Mme Aurore BOUYE :\nau 0673335089 ou par mail à a.bouye@eduprat.fr\n\n[/vc_column_text][/vc_column][/vc_row]
URL:https://www.endo-idf.fr/evenement/formation-dpc-endometriose-pour-les-professionnels-de-sante-de-courbevoie/
CATEGORIES:Filière Endo Centre-Ouest,Formation
ATTACH;FMTTYPE=image/jpeg:https://www.endo-idf.fr/wp-content/uploads/2023/12/image-formation-dpc-scaled.jpg
END:VEVENT
BEGIN:VEVENT
DTSTART;TZID=Europe/Paris:20240119T090000
DTEND;TZID=Europe/Paris:20240119T100000
DTSTAMP:20260424T205134
CREATED:20240116T143939Z
LAST-MODIFIED:20240206T205251Z
UID:121523-1705654800-1705658400@www.endo-idf.fr
SUMMARY:Réunion de Concertation Pluridisciplinaire (RCP)
DESCRIPTION:
URL:https://www.endo-idf.fr/evenement/reunion-de-concertation-pluridisciplinaire-rcp-5/
LOCATION:Hôpital La Pitié-Salpêtrière\, 47-83 boulevard de l'Hôpital\, PARIS\, 75012\, France
CATEGORIES:Filière Endo Nord-Est,RCP
END:VEVENT
BEGIN:VEVENT
DTSTART;TZID=Europe/Paris:20240125T183000
DTEND;TZID=Europe/Paris:20240125T193000
DTSTAMP:20260424T205134
CREATED:20240122T093700Z
LAST-MODIFIED:20240122T093700Z
UID:121563-1706207400-1706211000@www.endo-idf.fr
SUMMARY:Réunion de concertation pluridisciplinaire (RCP)
DESCRIPTION:Réunion de concertation pluridisciplinaire (RCP) du Groupe Hospitalier Diaconesses Croix-St-Simon \n\nPour participer à cette RCP ou pour toute demande d’information\, vous pouvez contacter :\nMme Anne Conan-Fraysse – aconanfraysse@hopital-dcss.org
URL:https://www.endo-idf.fr/evenement/reunion-de-concertation-pluridisciplinaire-rcp-7/
LOCATION:Hôpital de la Croix-Saint-Simon\, 125 rue d'Avron\, PARIS\, 750020\, France
CATEGORIES:Filière Endo Nord-Est,RCP
ATTACH;FMTTYPE=image/jpeg:https://www.endo-idf.fr/wp-content/uploads/2023/12/RCP-img-event.jpg
END:VEVENT
BEGIN:VEVENT
DTSTART;TZID=Europe/Paris:20240125T190000
DTEND;TZID=Europe/Paris:20240125T213000
DTSTAMP:20260424T205134
CREATED:20240111T162109Z
LAST-MODIFIED:20240131T125656Z
UID:121452-1706209200-1706218200@www.endo-idf.fr
SUMMARY:Soirée d'ouverture de la filière Endo Centre-Ouest
DESCRIPTION:[vc_row][vc_column][vc_column_text uncode_shortcode_id=”619855″] \nCher professionnel.elle.s et acteur.trice.s de la santé\, \nNous avons le plaisir de vous convier à la grande soirée de lancement de notre filière Endométriose IDF Centre-Ouest pour tout le territoire du 92 Centre et Nord ainsi que le 95 Sud  \nNotre filière s’inscrit\, conformément à la stratégie nationale de lutte contre l’endométriose\, dans le plan d’action national annoncé le 12 janvier 2022 dernier par le Président de la République\, Monsieur Emmanuel MACRON. \nL’objectif est de réduire le retard de diagnostic et d’améliorer la prise en charge des femmes atteintes d’endométriose \nPour cela\, nous avons besoin d’avancer ensemble. C’est pourquoi nous vous attendons nombreux ce \n25 janvier de 19h à 21h30 \nà la salle des fêtes de la Mairie de Suresnes  \n2 rue Carnot à Suresnes\, 92150. \n  \nLa soirée sera présidée par le Pr Jean Marc AYOUBI\, le Dr Georges BADER\, le Dr Nizar AFLAK et le Dr Vincent VILLEFRANQUE  qui présenteront nos actions et objectifs ainsi que les principaux acteurs de notre filière. \nSuivi d’un cocktail pour faire connaissance et échanger autour de l’endométriose et du rôle de chacun dans cette stratégie. \n  \nMerci de valider votre présence\, grandement attendu\, \npar retour de mail : filiere.centre.ouest@endo-idf.fr \npar le biais du formulaire : https://forms.gle/MnjK3DxonPNTW8Ez9 \n[/vc_column_text][/vc_column][/vc_row]
URL:https://www.endo-idf.fr/evenement/soiree-douverture-de-la-filiere-endo-centre-ouest/
LOCATION:Mairie de Surenes\, Cour de l'hôtel de ville 2 rue Carnot\, Suresnes\, 92150\, France
CATEGORIES:Evénement Pro,Filière Endo Centre-Ouest
ATTACH;FMTTYPE=image/jpeg:https://www.endo-idf.fr/wp-content/uploads/2024/01/SAVE-THE-DATE.jpg
ORGANIZER;CN="Fili%C3%A8re%20Endo%20Centre%20Ouest":MAILTO:filiere.centre.ouest@endo-idf.fr
END:VEVENT
END:VCALENDAR