BEGIN:VCALENDAR
VERSION:2.0
PRODID:-//EndoIDF - ECPv6.2.0.1//NONSGML v1.0//EN
CALSCALE:GREGORIAN
METHOD:PUBLISH
X-WR-CALNAME:EndoIDF
X-ORIGINAL-URL:https://www.endo-idf.fr
X-WR-CALDESC:évènements pour EndoIDF
REFRESH-INTERVAL;VALUE=DURATION:PT1H
X-Robots-Tag:noindex
X-PUBLISHED-TTL:PT1H
BEGIN:VTIMEZONE
TZID:Europe/Paris
BEGIN:DAYLIGHT
TZOFFSETFROM:+0100
TZOFFSETTO:+0200
TZNAME:CEST
DTSTART:20230326T010000
END:DAYLIGHT
BEGIN:STANDARD
TZOFFSETFROM:+0200
TZOFFSETTO:+0100
TZNAME:CET
DTSTART:20231029T010000
END:STANDARD
END:VTIMEZONE
BEGIN:VEVENT
DTSTART;TZID=Europe/Paris:20231007T093000
DTEND;TZID=Europe/Paris:20231007T180000
DTSTAMP:20260425T014545
CREATED:20230918T142817Z
LAST-MODIFIED:20230920T123749Z
UID:119893-1696671000-1696701600@www.endo-idf.fr
SUMMARY:Forum Santé - Santé vous bien !
DESCRIPTION:[vc_row][vc_column][vc_column_text uncode_shortcode_id=”186881″]Le Samedi 7 octobre prochain venez rejoindre la filière EndoIDF Centre Ouest et l’Hopital Foch au Forum de la Santé\, organisé par la ville de Suresnes\, afin de rencontrer et d’échanger avec nos professionnels de santé et patientes expertes autour de l’Endométriose. \nNous serons ravis de répondre à vos questions au stand numéro 10.[/vc_column_text][vc_button border_width=”0″ link=”url:https%3A%2F%2Fwww.suresnes.fr%2Fwp-content%2Fuploads%2F2023%2F09%2FWEB-FLYER-SANTE-VOUS-BIEN-2.pdf” uncode_shortcode_id=”182186″]Telecharger le programme [/vc_button][/vc_column][/vc_row]
URL:https://www.endo-idf.fr/evenement/fete-de-lendo/
LOCATION:Centre des Landes\, 6 chemin de la motte\, suresnes\, 92300\, France
ATTACH;FMTTYPE=application/pdf:https://www.endo-idf.fr/wp-content/uploads/2023/09/WEB-FLYER-SANTE-VOUS-BIEN-2.pdf
END:VEVENT
BEGIN:VEVENT
DTSTART;TZID=Europe/Paris:20231012T183000
DTEND;TZID=Europe/Paris:20231012T213000
DTSTAMP:20260425T014545
CREATED:20230926T101337Z
LAST-MODIFIED:20230926T101337Z
UID:120032-1697135400-1697146200@www.endo-idf.fr
SUMMARY:RCP Hôpital Saint Joseph
DESCRIPTION:RCP centre de l’endométriose de l’hôpital Paris Saint Joseph \n 
URL:https://www.endo-idf.fr/evenement/rcp-hopital-saint-joseph/
LOCATION:Hôpital Paris Saint-Joseph\, 185 Rue Raymond Losserand\, Paris\, 75014\, France
ATTACH;FMTTYPE=image/png:https://www.endo-idf.fr/wp-content/uploads/2023/09/illustration.png
ORGANIZER;CN="secr%C3%A9tariat%20du%20centre%20de%20l%27endom%C3%A9triose":MAILTO:resendo@ghpsj.fr
END:VEVENT
BEGIN:VEVENT
DTSTART;TZID=Europe/Paris:20231017T093000
DTEND;TZID=Europe/Paris:20231017T120000
DTSTAMP:20260425T014545
CREATED:20230926T092351Z
LAST-MODIFIED:20231019T093009Z
UID:120022-1697535000-1697544000@www.endo-idf.fr
SUMMARY:Intervention auprès des Infirmièr.es d'éducation nationale pour le Val De Marne
DESCRIPTION:Sensibilisation auprès des IDE de l’éducation nationale sur l’importance de l’écoute des douleurs de règles sévères et de l’orientation dans la filière Endo IDF afin de trouver un professionnel.le formé.e.
URL:https://www.endo-idf.fr/evenement/intervention-aupres-des-infirmier-es-deducation-nationale-pour-le-val-de-marne/
CATEGORIES:Filière EndoSud IDF
ATTACH;FMTTYPE=image/png:https://www.endo-idf.fr/wp-content/uploads/2023/03/logo-endoidf-web.png
END:VEVENT
BEGIN:VEVENT
DTSTART;TZID=Europe/Paris:20231019T180000
DTEND;TZID=Europe/Paris:20231019T193000
DTSTAMP:20260425T014545
CREATED:20230612T080712Z
LAST-MODIFIED:20231003T151832Z
UID:119347-1697738400-1697743800@www.endo-idf.fr
SUMMARY:Réunion de Concertation Pluridisciplinaire (RCP)
DESCRIPTION:
URL:https://www.endo-idf.fr/evenement/reunion-de-concertation-pluridisciplinaire-10/
LOCATION:Hôpital des Diaconesses\, 18 rue du Sergent Bauchat\, Paris\, 75012
CATEGORIES:Filière Endo Nord-Est,RCP
ATTACH;FMTTYPE=image/jpeg:https://www.endo-idf.fr/wp-content/uploads/2023/06/COOPERATION-INTERPROFESSIONNELLE.jpg
END:VEVENT
END:VCALENDAR