BEGIN:VCALENDAR
VERSION:2.0
PRODID:-//EndoIDF - ECPv6.2.0.1//NONSGML v1.0//EN
CALSCALE:GREGORIAN
METHOD:PUBLISH
X-ORIGINAL-URL:https://www.endo-idf.fr
X-WR-CALDESC:évènements pour EndoIDF
REFRESH-INTERVAL;VALUE=DURATION:PT1H
X-Robots-Tag:noindex
X-PUBLISHED-TTL:PT1H
BEGIN:VTIMEZONE
TZID:Europe/Paris
BEGIN:DAYLIGHT
TZOFFSETFROM:+0100
TZOFFSETTO:+0200
TZNAME:CEST
DTSTART:20230326T010000
END:DAYLIGHT
BEGIN:STANDARD
TZOFFSETFROM:+0200
TZOFFSETTO:+0100
TZNAME:CET
DTSTART:20231029T010000
END:STANDARD
END:VTIMEZONE
BEGIN:VEVENT
DTSTART;TZID=Europe/Paris:20230921T080000
DTEND;TZID=Europe/Paris:20230922T170000
DTSTAMP:20260425T051028
CREATED:20230918T142342Z
LAST-MODIFIED:20230918T142852Z
UID:119894-1695283200-1695402000@www.endo-idf.fr
SUMMARY:Congrès ENDO et ADO
DESCRIPTION:[vc_row][vc_column width=”1/1″][vc_single_image media=”119427″ media_width_percent=”100″ uncode_shortcode_id=”129378″][/vc_column][/vc_row][vc_row][vc_column width=”1/1″][vc_column_text uncode_shortcode_id=”670125″] \nSection 1.10.33 du “De Finibus Bonorum et Malorum” de Ciceron (45 av. J.-C.)\n“At vero eos et accusamus et iusto odio dignissimos ducimus qui blanditiis praesentium voluptatum deleniti atque corrupti quos dolores et quas molestias excepturi sint occaecati cupiditate non provident\, similique sunt in culpa qui officia deserunt mollitia animi\, id est laborum et dolorum fuga. Et harum quidem rerum facilis est et expedita distinctio. Nam libero tempore\, cum soluta nobis est eligendi optio cumque nihil impedit quo minus id quod maxime placeat facere possimus\, omnis voluptas assumenda est\, omnis dolor repellendus. Temporibus autem quibusdam et aut officiis debitis aut rerum necessitatibus saepe eveniet ut et voluptates repudiandae sint et molestiae non recusandae. Itaque earum rerum hic tenetur a sapiente delectus\, ut aut reiciendis voluptatibus maiores alias consequatur aut perferendis doloribus asperiores repellat.”[/vc_column_text][/vc_column][/vc_row]
URL:https://www.endo-idf.fr/evenement/congres-endo-et-ado/
LOCATION:Centre Hospitalier de Versailles – André Mignot\, 177\, rue de Versailles\, Le chesnay-roquencourt\, 78150\, France
CATEGORIES:Congrès,Evénement Pro,Filière 78-95 Voyelle
ATTACH;FMTTYPE=image/png:https://www.endo-idf.fr/wp-content/uploads/2023/05/ProPicto-1.png
END:VEVENT
BEGIN:VEVENT
DTSTART;TZID=Europe/Paris:20230922T090000
DTEND;TZID=Europe/Paris:20230922T170000
DTSTAMP:20260425T051028
CREATED:20230918T142230Z
LAST-MODIFIED:20230918T142611Z
UID:119888-1695373200-1695402000@www.endo-idf.fr
SUMMARY:Congrès
DESCRIPTION:[vc_row][vc_column width=”1/1″][vc_column_text uncode_shortcode_id=”302738″]xbgcdwbgfdwbgcxwbwfdgqsdwbvwsdg.[/vc_column_text][/vc_column][/vc_row]
URL:https://www.endo-idf.fr/evenement/congres/
LOCATION:Clinique de l’Estrée\, 35 Rue d'Amiens\, Stains\, 93240\, France
CATEGORIES:Congrès
ATTACH;FMTTYPE=image/png:https://www.endo-idf.fr/wp-content/uploads/2023/09/illustration.png
END:VEVENT
BEGIN:VEVENT
DTSTART;TZID=Europe/Paris:20230922T180000
DTEND;TZID=Europe/Paris:20230922T200000
DTSTAMP:20260425T051028
CREATED:20230918T150123Z
LAST-MODIFIED:20230918T150123Z
UID:119939-1695405600-1695412800@www.endo-idf.fr
SUMMARY:RENCONTRE INTERPROFESSIONNELLE EN VILLE
DESCRIPTION:[vc_row][vc_column][vc_column_text]Venez nombreux à notre soirée de rencontre au centre de santé Belleville[/vc_column_text][vc_button border_width=”0″ uncode_shortcode_id=”680771″]télécharger le programme[/vc_button][/vc_column][/vc_row]
URL:https://www.endo-idf.fr/evenement/rencontre-interprofessionnelle-en-ville/
LOCATION:125 rue de Belleville\, Paris\, 75020
END:VEVENT
BEGIN:VEVENT
DTSTART;VALUE=DATE:20230929
DTEND;VALUE=DATE:20231001
DTSTAMP:20260425T051028
CREATED:20230612T084133Z
LAST-MODIFIED:20230614T150231Z
UID:119364-1695945600-1696118399@www.endo-idf.fr
SUMMARY:Congrès Resendo
DESCRIPTION:
URL:https://www.endo-idf.fr/evenement/congres-resendo/
LOCATION:Hôpital Paris Saint-Joseph\, 185 Rue Raymond Losserand\, Paris\, 75014\, France
CATEGORIES:Evénement Pro,Filière EndoSud IDF
ATTACH;FMTTYPE=image/png:https://www.endo-idf.fr/wp-content/uploads/2023/06/PictoEventNew_Plan-de-travail-1-copie.png
END:VEVENT
BEGIN:VEVENT
DTSTART;VALUE=DATE:20230929
DTEND;VALUE=DATE:20231001
DTSTAMP:20260425T051028
CREATED:20230612T084631Z
LAST-MODIFIED:20230612T085826Z
UID:119367-1695945600-1696118399@www.endo-idf.fr
SUMMARY:8e journées de formation du centre de l’endométriose du groupe hospitalier Paris Saint-Joseph et de Resendo
DESCRIPTION:[vc_row][vc_column width=”1/1″][vc_column_text uncode_shortcode_id=”179425″]Comité d’organisation : \n\nDr. Benjamin Angliviel\nDr. Sophie Beranger\nDr. Gauthier Dietrich\nDr. Delphine Lhuillery\nDr. Jérôme Loriau \nDr. Louise Possémé\nDr. Erick Petit\nDr. Eric Sauvanet\n\n[/vc_column_text][vc_column_text uncode_shortcode_id=”166152″]Vendredi 29 septembre 2023 : \n\n8h : Accueil des participants.\n8h30 : Introduction.\n8h40 : Session 1 Le diagnostic :\nQuelles nouveautés ? + Résultat étude ComPARE le délai diagnostique.\n9h : Test salivaire : Où en est-on ?\n9h20 : LUNA : Présentation de l’application et sa place.\n9h45 : Pause & visite des stands.\n10h15 : Session 2\nLe parcours de soins : Comment l’envisager ? + Endométriose\, une maladie évolutive ? Dépistage pour toutes les femmes ?\n10h35 : La place de l’examen clinique et hormonothérapie de première intention.\n10h55 : Quelle imagerie pour quelles patientes ?\n11h15 : Mécanismes de l’hypersensibilisation et rôle des hormones sur l’information douloureuse.\n11h35 : La préservation ovocytaire : Quand et pour quelles femmes ?\n11h55 : Que reste-il des indications chirurgicales ?\n12h15 : SYMPOSIUM.\n12h45 : Déjeuner & visite des stands.\n14h : Session 3\nLe parcours de soins : Comment orienter ? + L’accompagnement par les professionnels de santé : sophrologie et acupuncture.\n14h25 : Modalités d’adhésion à une filière : Présentation de la filière ENDOSUD IDF FP.\n14h45 : Conclusion des sessions.\n15h à 17h30 : ATELIERS PRATIQUES PAR GROUPE\, 1H PAR ATELIER (2 au choix – inscriptions obligatoires).\n– Atelier Imagerie\n– Atelier Effets indésirables de l’hormonothérapie : Quelles attitudes ?\n– Atelier Nutrition\n– Atelier Sexologie\n\n[/vc_column_text][vc_column_text uncode_shortcode_id=”128502″]Samedi 30 septembre 2023 : \n\n8h45 : Accueil des participants.\n9h : Le syndrome de congestion pelvienne : Diagnostic différentiel et/ou associé à l’endométriose.\n– Définition\, dépistage et orientations thérapeutiques.\n9h50 : Pause & visite des stands.\n10h20 : TABLE RONDE SUR L’ENSEMBLE DE L’APPROCHE THERAPEUTIQUE – EQUIPES MEDICALES\, CHIRURGICALES ET MEDECINES COMPLEMENTAIRES.\n12h : Conclusion du congrès Resendo.\n\n[/vc_column_text][/vc_column][/vc_row]
URL:https://www.endo-idf.fr/evenement/8e-journees-de-formation-du-centre-de-lendometriose-du-groupe-hospitalier-paris-saint-joseph-et-de-resendo/
LOCATION:Hôpital Saint-Joseph\, 26 Bd de Louvain\, Marseille\, 13008\, France
END:VEVENT
END:VCALENDAR