BEGIN:VCALENDAR
VERSION:2.0
PRODID:-//EndoIDF - ECPv6.2.0.1//NONSGML v1.0//EN
CALSCALE:GREGORIAN
METHOD:PUBLISH
X-WR-CALNAME:EndoIDF
X-ORIGINAL-URL:https://www.endo-idf.fr
X-WR-CALDESC:évènements pour EndoIDF
REFRESH-INTERVAL;VALUE=DURATION:PT1H
X-Robots-Tag:noindex
X-PUBLISHED-TTL:PT1H
BEGIN:VTIMEZONE
TZID:Europe/Paris
BEGIN:DAYLIGHT
TZOFFSETFROM:+0100
TZOFFSETTO:+0200
TZNAME:CEST
DTSTART:20250330T010000
END:DAYLIGHT
BEGIN:STANDARD
TZOFFSETFROM:+0200
TZOFFSETTO:+0100
TZNAME:CET
DTSTART:20251026T010000
END:STANDARD
END:VTIMEZONE
BEGIN:VEVENT
DTSTART;VALUE=DATE:20250501
DTEND;VALUE=DATE:20250502
DTSTAMP:20260422T111544
CREATED:20241121T165220Z
LAST-MODIFIED:20241121T165220Z
UID:123913-1746057600-1746143999@www.endo-idf.fr
SUMMARY:Réunion de concertation pluridisciplinaire (RCP)
DESCRIPTION:Réunion de concertation pluridisciplinaire (RCP) de l’Hôpital Beaujon \n\nVous êtes un professionnel de santé et souhaitez participer à cette RCP ? Pour toute demande d’information\, merci de contacter le secrétariat au 01 40 87 56 33 ou écrire à l’adresse email suivante :  barbara.payen@aphp.fr  \n 
URL:https://www.endo-idf.fr/evenement/reunion-de-concertation-pluridisciplinaire-rcp-76/
LOCATION:Hopital Beaujon\, 100 bd Gén Leclerc\, Clichy\, 92110\, France
CATEGORIES:Filière Endo Centre-Ouest,RCP
ATTACH;FMTTYPE=image/jpeg:https://www.endo-idf.fr/wp-content/uploads/2023/12/RCP-img-event.jpg
END:VEVENT
BEGIN:VEVENT
DTSTART;TZID=Europe/Paris:20250512T093000
DTEND;TZID=Europe/Paris:20250512T103000
DTSTAMP:20260422T111544
CREATED:20240916T124533Z
LAST-MODIFIED:20240916T124533Z
UID:123344-1747042200-1747045800@www.endo-idf.fr
SUMMARY:Réunion de concertation pluridisciplinaire (RCP)
DESCRIPTION:Réunion de concertation pluridisciplinaire (RCP) de l’Hopital Foch \n\nPour participer ou pour toute demande d’information\, vous pouvez contacter le secrétariat au 01 46 25 27 99 ou écrire à l’adresse email suivante : centre-douleurgyneco@hopital-foch.com \n 
URL:https://www.endo-idf.fr/evenement/reunion-de-concertation-pluridisciplinaire-rcp-62/
LOCATION:Hopital Foch
CATEGORIES:Filière Endo Centre-Ouest,RCP
ATTACH;FMTTYPE=image/jpeg:https://www.endo-idf.fr/wp-content/uploads/2023/12/RCP-img-event.jpg
END:VEVENT
BEGIN:VEVENT
DTSTART;TZID=Europe/Paris:20250514T180000
DTEND;TZID=Europe/Paris:20250514T200000
DTSTAMP:20260422T111544
CREATED:20241223T140836Z
LAST-MODIFIED:20241223T140836Z
UID:124242-1747245600-1747252800@www.endo-idf.fr
SUMMARY:Réunion de concertation pluridisciplinaire (RCP)
DESCRIPTION:Réunion de concertation pluridisciplinaire (RCP) de la Clinique Hartman en visio \n\nPour participer ou pour toute demande d’information\, vous pouvez contacter le secrétariat au 01 46 41 31 87 ou à l’adresse email suivante : rcp.secretaire@clinique-a-pare.fr
URL:https://www.endo-idf.fr/evenement/reunion-de-concertation-pluridisciplinaire-rcp-108/
LOCATION:Groupe Hospitalier Privé Ambroise Paré-Hartmann\, Neuilly-sur-Seine\, France
CATEGORIES:Filière Endo Centre-Ouest,RCP
ATTACH;FMTTYPE=image/jpeg:https://www.endo-idf.fr/wp-content/uploads/2023/12/RCP-img-event.jpg
END:VEVENT
BEGIN:VEVENT
DTSTART;TZID=Europe/Paris:20250515T183000
DTEND;TZID=Europe/Paris:20250515T200000
DTSTAMP:20260422T111544
CREATED:20241204T125925Z
LAST-MODIFIED:20241204T125925Z
UID:124100-1747333800-1747339200@www.endo-idf.fr
SUMMARY:Réunion de concertation pluridisciplinaire (RCP)
DESCRIPTION:Réunion de concertation pluridisciplinaire (RCP) du centre de l’endométriose de l’Hôpital Paris Saint-Joseph \nPour participer à cette RCP ou pour toute demande d’information\, vous pouvez contacter : Tessa Boisne : endometriose@ghpsj.fr \nNous vous attendons à partir de 18h30 à la salle d’imagerie (à droite en entrant par l’entrée principale) ou en salle de conférence (batiment NDBS porte 10 niveau G).\nIl est possible d’assister à cette RCP en distanciel (visio).
URL:https://www.endo-idf.fr/evenement/reunion-de-concertation-pluridisciplinaire-rcp-97/
LOCATION:Hôpital Paris Saint-Joseph\, 185 Rue Raymond Losserand\, Paris\, 75014\, France
CATEGORIES:RCP
ATTACH;FMTTYPE=image/jpeg:https://www.endo-idf.fr/wp-content/uploads/2023/12/RCP-img-event.jpg
END:VEVENT
BEGIN:VEVENT
DTSTART;TZID=Europe/Paris:20250522T180000
DTEND;TZID=Europe/Paris:20250522T193000
DTSTAMP:20260422T111544
CREATED:20241128T134300Z
LAST-MODIFIED:20241202T145151Z
UID:124007-1747936800-1747942200@www.endo-idf.fr
SUMMARY:Réunion de concertation pluridisciplinaire (RCP)
DESCRIPTION:Réunion de concertation pluridisciplinaire (RCP) au Groupe Hospitalier Diaconesses-Croix Saint Simon \n\nPour participer à cette RCP ou pour toute demande d’information\, vous pouvez contacter : \nDr Benjamine PHAM : bpham@hopital-dcss.org \nAnne CONAN-FRAYSSE : aconanfraysse@hopital-dcss.org
URL:https://www.endo-idf.fr/evenement/reunion-de-concertation-pluridisciplinaire-rcp-83/
LOCATION:Hôpital de la Croix-Saint-Simon\, 125 rue d'Avron\, PARIS\, 750020\, France
CATEGORIES:Filière Endo Nord-Est,RCP
ATTACH;FMTTYPE=image/jpeg:https://www.endo-idf.fr/wp-content/uploads/2023/12/RCP-img-event.jpg
END:VEVENT
END:VCALENDAR