BEGIN:VCALENDAR
VERSION:2.0
PRODID:-//EndoIDF - ECPv6.2.0.1//NONSGML v1.0//EN
CALSCALE:GREGORIAN
METHOD:PUBLISH
X-ORIGINAL-URL:https://www.endo-idf.fr
X-WR-CALDESC:évènements pour EndoIDF
REFRESH-INTERVAL;VALUE=DURATION:PT1H
X-Robots-Tag:noindex
X-PUBLISHED-TTL:PT1H
BEGIN:VTIMEZONE
TZID:Europe/Paris
BEGIN:DAYLIGHT
TZOFFSETFROM:+0100
TZOFFSETTO:+0200
TZNAME:CEST
DTSTART:20250330T010000
END:DAYLIGHT
BEGIN:STANDARD
TZOFFSETFROM:+0200
TZOFFSETTO:+0100
TZNAME:CET
DTSTART:20251026T010000
END:STANDARD
END:VTIMEZONE
BEGIN:VEVENT
DTSTART;TZID=Europe/Paris:20250205T180000
DTEND;TZID=Europe/Paris:20250205T200000
DTSTAMP:20260422T165018
CREATED:20241223T135403Z
LAST-MODIFIED:20241223T135403Z
UID:124236-1738778400-1738785600@www.endo-idf.fr
SUMMARY:Réunion de concertation pluridisciplinaire (RCP)
DESCRIPTION:Réunion de concertation pluridisciplinaire (RCP) de la Clinique Hartman  \n\nPour participer ou pour toute demande d’information\, vous pouvez contacter le secrétariat au 01 46 41 31 87 ou à l’adresse email suivante : rcp.secretaire@clinique-a-pare.fr
URL:https://www.endo-idf.fr/evenement/reunion-de-concertation-pluridisciplinaire-rcp-105/
LOCATION:Groupe Hospitalier Privé Ambroise Paré-Hartmann\, Neuilly-sur-Seine\, France
CATEGORIES:Filière Endo Centre-Ouest,RCP
ATTACH;FMTTYPE=image/jpeg:https://www.endo-idf.fr/wp-content/uploads/2023/12/RCP-img-event.jpg
END:VEVENT
BEGIN:VEVENT
DTSTART;VALUE=DATE:20250206
DTEND;VALUE=DATE:20250207
DTSTAMP:20260422T165018
CREATED:20241121T164622Z
LAST-MODIFIED:20241121T164622Z
UID:123907-1738800000-1738886399@www.endo-idf.fr
SUMMARY:Réunion de concertation pluridisciplinaire (RCP)
DESCRIPTION:Réunion de concertation pluridisciplinaire (RCP) de l’Hôpital Beaujon \n\nVous êtes un professionnel de santé et souhaitez participer à cette RCP ? Pour toute demande d’information\, merci de contacter le secrétariat au 01 40 87 56 33 ou écrire à l’adresse email suivante :  barbara.payen@aphp.fr  \n 
URL:https://www.endo-idf.fr/evenement/reunion-de-concertation-pluridisciplinaire-rcp-73/
LOCATION:Hopital Beaujon\, 100 bd Gén Leclerc\, Clichy\, 92110\, France
CATEGORIES:Filière Endo Centre-Ouest,RCP
ATTACH;FMTTYPE=image/jpeg:https://www.endo-idf.fr/wp-content/uploads/2023/12/RCP-img-event.jpg
END:VEVENT
BEGIN:VEVENT
DTSTART;TZID=Europe/Paris:20250210T093000
DTEND;TZID=Europe/Paris:20250210T103000
DTSTAMP:20260422T165018
CREATED:20240916T124101Z
LAST-MODIFIED:20240916T124101Z
UID:123341-1739179800-1739183400@www.endo-idf.fr
SUMMARY:Réunion de concertation pluridisciplinaire (RCP)
DESCRIPTION:Réunion de concertation pluridisciplinaire (RCP) de l’Hopital Foch \n\nPour participer ou pour toute demande d’information\, vous pouvez contacter le secrétariat au 01 46 25 27 99 ou écrire à l’adresse email suivante : centre-douleurgyneco@hopital-foch.com \n 
URL:https://www.endo-idf.fr/evenement/reunion-de-concertation-pluridisciplinaire-rcp-60/
LOCATION:Hopital Foch
CATEGORIES:Filière Endo Centre-Ouest,RCP
ATTACH;FMTTYPE=image/jpeg:https://www.endo-idf.fr/wp-content/uploads/2023/12/RCP-img-event.jpg
END:VEVENT
BEGIN:VEVENT
DTSTART;TZID=Europe/Paris:20250213T180000
DTEND;TZID=Europe/Paris:20250213T193000
DTSTAMP:20260422T165018
CREATED:20241128T134051Z
LAST-MODIFIED:20241205T121845Z
UID:123999-1739469600-1739475000@www.endo-idf.fr
SUMMARY:Réunion de concertation pluridisciplinaire (RCP)
DESCRIPTION:Réunion de concertation pluridisciplinaire (RCP) au Groupe Hospitalier Diaconesses-Croix Saint Simon \n\nPour participer à cette RCP ou pour toute demande d’information\, vous pouvez contacter : \nDr Benjamine PHAM : bpham@hopital-dcss.org \nAnne CONAN-FRAYSSE : aconanfraysse@hopital-dcss.org
URL:https://www.endo-idf.fr/evenement/reunion-de-concertation-pluridisciplinaire-rcp-80/
LOCATION:Hôpital de la Croix-Saint-Simon\, 125 rue d'Avron\, PARIS\, 750020\, France
CATEGORIES:Filière Endo Nord-Est,RCP
ATTACH;FMTTYPE=image/jpeg:https://www.endo-idf.fr/wp-content/uploads/2023/12/RCP-img-event.jpg
END:VEVENT
BEGIN:VEVENT
DTSTART;TZID=Europe/Paris:20250213T183000
DTEND;TZID=Europe/Paris:20250213T200000
DTSTAMP:20260422T165018
CREATED:20241204T125229Z
LAST-MODIFIED:20241204T125229Z
UID:124094-1739471400-1739476800@www.endo-idf.fr
SUMMARY:Réunion de concertation pluridisciplinaire (RCP)
DESCRIPTION:Réunion de concertation pluridisciplinaire (RCP) du centre de l’endométriose de l’Hôpital Paris Saint-Joseph \nPour participer à cette RCP ou pour toute demande d’information\, vous pouvez contacter : Tessa Boisne : endometriose@ghpsj.fr \nNous vous attendons à partir de 18h30 à la salle d’imagerie (à droite en entrant par l’entrée principale) ou en salle de conférence (batiment NDBS porte 10 niveau G).\nIl est possible d’assister à cette RCP en distanciel (visio).
URL:https://www.endo-idf.fr/evenement/reunion-de-concertation-pluridisciplinaire-rcp-94/
LOCATION:Hôpital Paris Saint-Joseph\, 185 Rue Raymond Losserand\, Paris\, 75014\, France
CATEGORIES:RCP
ATTACH;FMTTYPE=image/jpeg:https://www.endo-idf.fr/wp-content/uploads/2023/12/RCP-img-event.jpg
END:VEVENT
BEGIN:VEVENT
DTSTART;TZID=Europe/Paris:20250214T090000
DTEND;TZID=Europe/Paris:20250214T103000
DTSTAMP:20260422T165018
CREATED:20241202T151146Z
LAST-MODIFIED:20241202T151146Z
UID:124054-1739523600-1739529000@www.endo-idf.fr
SUMMARY:Réunion de concertation pluridisciplinaire (RCP)
DESCRIPTION:Réunion de concertation pluridisciplinaire (RCP) à l’Hôpital La Pitié-Salpêtrière \n\nPour participer à cette RCP ou pour toute demande d’information\, vous pouvez contacter :\nPr Geoffroy CANLORBE : geoffroy.canlorbe@aphp.fr
URL:https://www.endo-idf.fr/evenement/reunion-de-concertation-pluridisciplinaire-rcp-88/
LOCATION:Hôpital Pitié-Salpêtrière\, 47-83 boulevard de l'Hôpital\, PARIS\, 75013\, France
CATEGORIES:Filière Endo Nord-Est,RCP
ATTACH;FMTTYPE=image/jpeg:https://www.endo-idf.fr/wp-content/uploads/2023/12/RCP-img-event.jpg
END:VEVENT
BEGIN:VEVENT
DTSTART;TZID=Europe/Paris:20250228T090000
DTEND;TZID=Europe/Paris:20250228T103000
DTSTAMP:20260422T165018
CREATED:20241202T151236Z
LAST-MODIFIED:20241202T151236Z
UID:124056-1740733200-1740738600@www.endo-idf.fr
SUMMARY:Réunion de concertation pluridisciplinaire (RCP)
DESCRIPTION:Réunion de concertation pluridisciplinaire (RCP) à l’Hôpital La Pitié-Salpêtrière \n\nPour participer à cette RCP ou pour toute demande d’information\, vous pouvez contacter :\nPr Geoffroy CANLORBE : geoffroy.canlorbe@aphp.fr
URL:https://www.endo-idf.fr/evenement/reunion-de-concertation-pluridisciplinaire-rcp-89/
LOCATION:Hôpital Pitié-Salpêtrière\, 47-83 boulevard de l'Hôpital\, PARIS\, 75013\, France
CATEGORIES:Filière Endo Nord-Est,RCP
ATTACH;FMTTYPE=image/jpeg:https://www.endo-idf.fr/wp-content/uploads/2023/12/RCP-img-event.jpg
END:VEVENT
END:VCALENDAR