BEGIN:VCALENDAR
VERSION:2.0
PRODID:-//EndoIDF - ECPv6.2.0.1//NONSGML v1.0//EN
CALSCALE:GREGORIAN
METHOD:PUBLISH
X-WR-CALNAME:EndoIDF
X-ORIGINAL-URL:https://www.endo-idf.fr
X-WR-CALDESC:évènements pour EndoIDF
REFRESH-INTERVAL;VALUE=DURATION:PT1H
X-Robots-Tag:noindex
X-PUBLISHED-TTL:PT1H
BEGIN:VTIMEZONE
TZID:Europe/Paris
BEGIN:DAYLIGHT
TZOFFSETFROM:+0100
TZOFFSETTO:+0200
TZNAME:CEST
DTSTART:20250330T010000
END:DAYLIGHT
BEGIN:STANDARD
TZOFFSETFROM:+0200
TZOFFSETTO:+0100
TZNAME:CET
DTSTART:20251026T010000
END:STANDARD
END:VTIMEZONE
BEGIN:VEVENT
DTSTART;VALUE=DATE:20250327
DTEND;VALUE=DATE:20250328
DTSTAMP:20260421T212113
CREATED:20250304T173220Z
LAST-MODIFIED:20250304T173220Z
UID:124610-1743033600-1743119999@www.endo-idf.fr
SUMMARY:4ème journée de la santé de la femme
DESCRIPTION:[vc_row][vc_column][vc_column_text uncode_shortcode_id=”159560″] \n4ème Journée de la Santé de la Femme – 27 mars 2025 \nLe Jeudi 27 mars 2025\, de 9h00 à 17h30\, le Groupe Hospitalier Privé Ambroise Paré – Hartmann organise la 4ème Journée de la Santé de la Femme à Neuilly-sur-Seine. \nCet événement\, dédié aux professionnels de santé\, abordera des thématiques essentielles telles que le périnée et l’endométriose. Vous pourrez également découvrir les dernières avancées dans ces domaines grâce à des interventions d’experts et des sessions de formation continue. \n🔑 Thématiques principales : \n\nPérinée\nEndométriose\n\nCette journée s’inscrit dans le cadre des activités du Centre de Référence de Pelvipérinéologie de la Femme et du Centre Expert de l’Endométriose. Ce sera l’occasion d’enrichir vos connaissances\, de vous former sur des sujets cruciaux pour la santé des femmes\, et de dialoguer avec des spécialistes du domaine. \n📅 Quand ? Jeudi 27 mars 2025📍 Où ? Groupe Hospitalier Privé Ambroise Paré – Hartmann\, Neuilly-sur-Seine \n💡 Une formation DPC sera proposée tout au long de la journée. \nLes inscriptions sont gratuites et limitées\, alors ne tardez pas à vous inscrire ! \n[/vc_column_text][/vc_column][/vc_row][vc_row][vc_column width=”1/2″][vc_button border_width=”0″ link=”target:_blank” uncode_shortcode_id=”202382″ media_lightbox=”124612″]Télécharger le programme[/vc_button][/vc_column][vc_column width=”1/2″][vc_button border_width=”0″ link=”url:https%3A%2F%2Fdocs.google.com%2Fforms%2Fd%2F1J1JJffqQgc4C8e5ESxgR1mZw3nmoG83LfI_8Y2R6M7U%2Fviewform%3Fedit_requested%3Dtrue|title:Inscription%20%C3%A0%20la%20journ%C3%A9e%20de%20la%20sant%C3%A9%20de%20la%20femme%20des%20cliniques%20Ambroise%20Par%C3%A9|target:_blank” uncode_shortcode_id=”152041″]Je m’inscris [/vc_button][/vc_column][/vc_row]
URL:https://www.endo-idf.fr/evenement/4eme-journee-de-la-sante-de-la-femme/
LOCATION:Cliniques Ambroise Paré\, Au 48ter boulevard Victor Hugo\, Neuilly-sur-Seine\, 92200\, France
CATEGORIES:Congrès,Filière Endo Centre-Ouest,Formation
ATTACH;FMTTYPE=image/jpeg:https://www.endo-idf.fr/wp-content/uploads/2025/03/JSF-27-03-2025-affiche.jpg
END:VEVENT
BEGIN:VEVENT
DTSTART;TZID=Europe/Paris:20250327T100000
DTEND;TZID=Europe/Paris:20250327T170000
DTSTAMP:20260421T212113
CREATED:20250320T091042Z
LAST-MODIFIED:20250320T091042Z
UID:124686-1743069600-1743094800@www.endo-idf.fr
SUMMARY:Village Santé de CERGY PARIS UNIVERSITE
DESCRIPTION:📅 Save the Date 📅 \n🎇 Rendez-vous le jeudi 27 mars 2025 de 10h à 17h 🎇 \n🎓 Village Santé de Cergy 🎓\n📇 33\, boulevard du Port – Site des Chênes 📇\n♾️ CY Cergy Paris Université ♾️ \n🌺 Voyelle tiendra un stand aux côtés d’Endomind 🌺 \n🎗️ Sensibiliser les étudiants 🎗️\n🎗️ Faire connaitre la pathologie 🎗️\n🎗️ Etre à l’écoute de ses symptômes 🎗️\n🎗️ Ne pas avoir peur d’en parler 🎗️\n🎗️ Vers qui être orientée 🎗️ \n🙌 Nous vous attendons nombreux 🙌
URL:https://www.endo-idf.fr/evenement/village-sante-de-cergy-paris-universite/
LOCATION:33 boulevard du port\, 33\, boulevard du port\, CERGY
CATEGORIES:Filière 78-95 Voyelle
ATTACH;FMTTYPE=application/pdf:https://www.endo-idf.fr/wp-content/uploads/2025/03/Village-sante-AFF-A3-VF.pdf
END:VEVENT
END:VCALENDAR