BEGIN:VCALENDAR
VERSION:2.0
PRODID:-//EndoIDF - ECPv6.2.0.1//NONSGML v1.0//EN
CALSCALE:GREGORIAN
METHOD:PUBLISH
X-ORIGINAL-URL:https://www.endo-idf.fr
X-WR-CALDESC:évènements pour EndoIDF
REFRESH-INTERVAL;VALUE=DURATION:PT1H
X-Robots-Tag:noindex
X-PUBLISHED-TTL:PT1H
BEGIN:VTIMEZONE
TZID:Europe/Paris
BEGIN:DAYLIGHT
TZOFFSETFROM:+0100
TZOFFSETTO:+0200
TZNAME:CEST
DTSTART:20250330T010000
END:DAYLIGHT
BEGIN:STANDARD
TZOFFSETFROM:+0200
TZOFFSETTO:+0100
TZNAME:CET
DTSTART:20251026T010000
END:STANDARD
END:VTIMEZONE
BEGIN:VEVENT
DTSTART;TZID=Europe/Paris:20250128T203000
DTEND;TZID=Europe/Paris:20250128T220000
DTSTAMP:20260424T014641
CREATED:20250123T082746Z
LAST-MODIFIED:20250123T082746Z
UID:124414-1738096200-1738101600@www.endo-idf.fr
SUMMARY:Soirée de la CPTS de Saint-Quentin-en-Yvelines : organisation des parcours en gynécologie
DESCRIPTION:Retrouvez l’équipe de coordination de Voyelle à la soirée organisée par la CPTS de Saint-Quentin-en-Yvelines le mardi 28 janvier prochain.\nVoyelle – Filière ENDO 78 et 95 Ouest a besoin de vous pour offrir une prise en charge de qualité sur le territoire.\nNous avons hâte de faire connaissance et d’échanger ! \n🎟️ Inscription obligatoire avant le 24 janvier 2025\n📧 Un mail à coordinateur.cpts.sqy@gmail.com\, et c’est réglé ! \n 
URL:https://www.endo-idf.fr/evenement/soiree-de-la-cpts-de-saint-quentin-en-yvelines-organisation-des-parcours-en-gynecologie/
LOCATION:Salle du Conseil de l’Agglomération de Saint-Quentin-en-Yvelines\, 4\, rue des Charmes\, Trappes\, 78190\, France
CATEGORIES:Evénement Pro,Filière 78-95 Voyelle
ATTACH;FMTTYPE=image/jpeg:https://www.endo-idf.fr/wp-content/uploads/2025/01/Capture-decran_23-1-2025_9261_.jpeg
ORGANIZER;CN="CPTS%20Saint-Quentin-en-Yvelines":MAILTO:coordinateur.cpts.sqy@gmail.com
END:VEVENT
END:VCALENDAR