BEGIN:VCALENDAR
VERSION:2.0
PRODID:-//EndoIDF - ECPv6.2.0.1//NONSGML v1.0//EN
CALSCALE:GREGORIAN
METHOD:PUBLISH
X-ORIGINAL-URL:https://www.endo-idf.fr
X-WR-CALDESC:évènements pour EndoIDF
REFRESH-INTERVAL;VALUE=DURATION:PT1H
X-Robots-Tag:noindex
X-PUBLISHED-TTL:PT1H
BEGIN:VTIMEZONE
TZID:Europe/Paris
BEGIN:DAYLIGHT
TZOFFSETFROM:+0100
TZOFFSETTO:+0200
TZNAME:CEST
DTSTART:20240331T010000
END:DAYLIGHT
BEGIN:STANDARD
TZOFFSETFROM:+0200
TZOFFSETTO:+0100
TZNAME:CET
DTSTART:20241027T010000
END:STANDARD
END:VTIMEZONE
BEGIN:VEVENT
DTSTART;VALUE=DATE:20241128
DTEND;VALUE=DATE:20241130
DTSTAMP:20260424T043800
CREATED:20241003T143027Z
LAST-MODIFIED:20241015T160501Z
UID:123431-1732752000-1732924799@www.endo-idf.fr
SUMMARY:Congrès National de la Sage-Femme Libérale
DESCRIPTION:[vc_row][vc_column][vc_column_text uncode_shortcode_id=”939597″]Deux jours de conférences\, d’ateliers et un programme DPC pour actualiser ou approfondir ses connaissances sur des thèmes scientifiques et médicaux\, découvrir des initiatives innovantes\, trouver des réponses en matière de gestion de cabinet et échanger avec ses collègues venues de toute la France. \nRéservez dès à présent cette date.[/vc_column_text][vc_button border_width=”0″ link=”url:https%3A%2F%2Fprofession-sage-femme.com%2Fwp-content%2Fuploads%2F2024%2F09%2Fcnsfl_prog5sept.pdf” uncode_shortcode_id=”206468″]Découvrir le programme[/vc_button][/vc_column][/vc_row]
URL:https://www.endo-idf.fr/evenement/congres-national-de-la-sage-femme-liberale/
LOCATION:Centre de Congrès de Troyes\, 3 Rue Pierre Labonde\, Troyes\, 10000\, France
CATEGORIES:Congrès
ATTACH;FMTTYPE=image/jpeg:https://www.endo-idf.fr/wp-content/uploads/2024/10/xCNSFL24-1.jpg.pagespeed.ic_.Oq2H633Awg.jpg
END:VEVENT
END:VCALENDAR