BEGIN:VCALENDAR
VERSION:2.0
PRODID:-//EndoIDF - ECPv6.2.0.1//NONSGML v1.0//EN
CALSCALE:GREGORIAN
METHOD:PUBLISH
X-ORIGINAL-URL:https://www.endo-idf.fr
X-WR-CALDESC:évènements pour EndoIDF
REFRESH-INTERVAL;VALUE=DURATION:PT1H
X-Robots-Tag:noindex
X-PUBLISHED-TTL:PT1H
BEGIN:VTIMEZONE
TZID:Europe/Paris
BEGIN:DAYLIGHT
TZOFFSETFROM:+0100
TZOFFSETTO:+0200
TZNAME:CEST
DTSTART:20240331T010000
END:DAYLIGHT
BEGIN:STANDARD
TZOFFSETFROM:+0200
TZOFFSETTO:+0100
TZNAME:CET
DTSTART:20241027T010000
END:STANDARD
END:VTIMEZONE
BEGIN:VEVENT
DTSTART;VALUE=DATE:20240927
DTEND;VALUE=DATE:20240929
DTSTAMP:20260424T092022
CREATED:20240205T092034Z
LAST-MODIFIED:20240709T125935Z
UID:121800-1727395200-1727567999@www.endo-idf.fr
SUMMARY:Resendo - 9ème journées
DESCRIPTION:9ème journées de Resendo et du Centre de l’endométriose de Saint-Joseph \nRéservez dès à présent cette date.
URL:https://www.endo-idf.fr/evenement/resendo-2024/
LOCATION:Hôpital Paris Saint-Joseph\, 185 Rue Raymond Losserand\, Paris\, 75014\, France
CATEGORIES:Evénement Pro,Filière EndoSud IDF
ATTACH;FMTTYPE=image/png:https://www.endo-idf.fr/wp-content/uploads/2023/09/illustration.png
END:VEVENT
END:VCALENDAR