BEGIN:VCALENDAR
VERSION:2.0
PRODID:-//EndoIDF - ECPv6.2.0.1//NONSGML v1.0//EN
CALSCALE:GREGORIAN
METHOD:PUBLISH
X-WR-CALNAME:EndoIDF
X-ORIGINAL-URL:https://www.endo-idf.fr
X-WR-CALDESC:évènements pour EndoIDF
REFRESH-INTERVAL;VALUE=DURATION:PT1H
X-Robots-Tag:noindex
X-PUBLISHED-TTL:PT1H
BEGIN:VTIMEZONE
TZID:Europe/Paris
BEGIN:DAYLIGHT
TZOFFSETFROM:+0100
TZOFFSETTO:+0200
TZNAME:CEST
DTSTART:20240331T010000
END:DAYLIGHT
BEGIN:STANDARD
TZOFFSETFROM:+0200
TZOFFSETTO:+0100
TZNAME:CET
DTSTART:20241027T010000
END:STANDARD
END:VTIMEZONE
BEGIN:VEVENT
DTSTART;TZID=Europe/Paris:20240924T203000
DTEND;TZID=Europe/Paris:20240924T223000
DTSTAMP:20260424T091702
CREATED:20240924T123727Z
LAST-MODIFIED:20240924T124303Z
UID:123393-1727209800-1727217000@www.endo-idf.fr
SUMMARY:Voyelle - Endométriose - Soirée des Quatre Saisons - Hôpital NOVO (Pontoise)
DESCRIPTION:Hôpital NOVO – Soirée des Quatre Saisons – Mardi 24 septembre 2024 – 20h30. \nEchange professionnel entre médecins libéraux et médecins hospitaliers. \n*Présentation de Voyelle – Filière ENDO 78 et 95 Ouest :\n-L’endométriose\, une priorité de santé publique\,\n-L’endométriose en Ile-de-France\,\n-Couverture du Val d’Oise Ouest – Hôpital NOVO\,\n-Rôle et Missions de Voyelle\,\n-Site internet de la filière régionale ENDO IDF\,\n-Comment j’adhère à Voyelle ?\n-En tant que patiente\, en quoi Voyelle peut m’aider ? \nL’endométriose :\n*C’est l’affaire de tous\,\n*C’est une priorité de santé publique\,\n*C’est le Val d’Oise Ouest et les Yvelines qui s’engagent pour Elles contre l’Endométriose (VOYELLE).
URL:https://www.endo-idf.fr/evenement/voyelle-endometriose-soiree-des-quatre-saisons-hopital-novo-pontoise/
LOCATION:hopital novo\, 6\, avenue de l'Ile-de-France\, PONTOISE\, 95300\, France
CATEGORIES:Filière 78-95 Voyelle
END:VEVENT
END:VCALENDAR