BEGIN:VCALENDAR
VERSION:2.0
PRODID:-//EndoIDF - ECPv6.2.0.1//NONSGML v1.0//EN
CALSCALE:GREGORIAN
METHOD:PUBLISH
X-WR-CALNAME:EndoIDF
X-ORIGINAL-URL:https://www.endo-idf.fr
X-WR-CALDESC:évènements pour EndoIDF
REFRESH-INTERVAL;VALUE=DURATION:PT1H
X-Robots-Tag:noindex
X-PUBLISHED-TTL:PT1H
BEGIN:VTIMEZONE
TZID:Europe/Paris
BEGIN:DAYLIGHT
TZOFFSETFROM:+0100
TZOFFSETTO:+0200
TZNAME:CEST
DTSTART:20240331T010000
END:DAYLIGHT
BEGIN:STANDARD
TZOFFSETFROM:+0200
TZOFFSETTO:+0100
TZNAME:CET
DTSTART:20241027T010000
END:STANDARD
END:VTIMEZONE
BEGIN:VEVENT
DTSTART;TZID=Europe/Paris:20240919T200000
DTEND;TZID=Europe/Paris:20240919T230000
DTSTAMP:20260424T091556
CREATED:20240724T113659Z
LAST-MODIFIED:20240724T113811Z
UID:123071-1726776000-1726786800@www.endo-idf.fr
SUMMARY:Soirée de Formation : L’endométriose\, prise en charge en soins primaires
DESCRIPTION:[vc_row][vc_column][vc_column_text uncode_shortcode_id=”115839″] \nJeudi 19 septembre à 20h\nLe Groupe Hospitalier Privé Ambroise Paré Hartmann\, en partenariat avec Eduprat Formations\, vous propose une formation validante et indemnisée jusqu’à 360 euros par session\, dans le cadre du DPC sur les thèmes suivants : \nL’endométriose\, prise en charge en soins primaires\nUne formation animée par les Dr Georges Bader et Julien Niro\, chirurgiens gynécologues. \n  \nLieu : \nau sein du Groupe Hospitalier Privé Ambroise Paré – Hartmann \n48 ter Boulevard Victor Hugo – 92200 Neuilly-sur-Seine \n  \nComment participer : \nContacter Mme Aurore Bouyé au 06 73 33 50 89 / a.bouye@eduprat.fr. \nOu vous inscrire directement via le lien ci dessous en indiquant la référence de l’action. \nRéférence : 57202425445 session : 24.001[/vc_column_text][vc_button border_width=”0″ link=”url:https%3A%2F%2Fwww.agencedpc.fr%2F” uncode_shortcode_id=”308775″]Je souhaite m’inscrire[/vc_button][/vc_column][/vc_row]
URL:https://www.endo-idf.fr/evenement/soiree-de-formation/
LOCATION:Cliniques Ambroise Paré\, Au 48ter boulevard Victor Hugo\, Neuilly-sur-Seine\, 92200\, France
CATEGORIES:Filière Endo Centre-Ouest,Formation
ATTACH;FMTTYPE=image/jpeg:https://www.endo-idf.fr/wp-content/uploads/2024/07/formation-endometriose-Hartmann.jpeg
END:VEVENT
END:VCALENDAR