BEGIN:VCALENDAR
VERSION:2.0
PRODID:-//EndoIDF - ECPv6.2.0.1//NONSGML v1.0//EN
CALSCALE:GREGORIAN
METHOD:PUBLISH
X-WR-CALNAME:EndoIDF
X-ORIGINAL-URL:https://www.endo-idf.fr
X-WR-CALDESC:évènements pour EndoIDF
REFRESH-INTERVAL;VALUE=DURATION:PT1H
X-Robots-Tag:noindex
X-PUBLISHED-TTL:PT1H
BEGIN:VTIMEZONE
TZID:Europe/Paris
BEGIN:DAYLIGHT
TZOFFSETFROM:+0100
TZOFFSETTO:+0200
TZNAME:CEST
DTSTART:20240331T010000
END:DAYLIGHT
BEGIN:STANDARD
TZOFFSETFROM:+0200
TZOFFSETTO:+0100
TZNAME:CET
DTSTART:20241027T010000
END:STANDARD
END:VTIMEZONE
BEGIN:VEVENT
DTSTART;VALUE=DATE:20240704
DTEND;VALUE=DATE:20240705
DTSTAMP:20260424T130102
CREATED:20240517T150043Z
LAST-MODIFIED:20240517T150043Z
UID:122722-1720051200-1720137599@www.endo-idf.fr
SUMMARY:Réunion de concertation pluridisciplinaire (RCP)
DESCRIPTION:Réunion de concertation pluridisciplinaire (RCP) de l’Hôpital Beaujon \n\nPour participer ou pour toute demande d’information\, vous pouvez contacter le secrétariat au 01 40 87 56 33 ou écrire à l’adresse email suivante :  barbara.payen@aphp.fr  \n 
URL:https://www.endo-idf.fr/evenement/reunion-de-concertation-pluridisciplinaire-rcp-56/
LOCATION:Hopital Beaujon\, 100 bd Gén Leclerc\, Clichy\, 92110\, France
CATEGORIES:Filière Endo Centre-Ouest,RCP
ATTACH;FMTTYPE=image/jpeg:https://www.endo-idf.fr/wp-content/uploads/2023/12/RCP-img-event.jpg
END:VEVENT
END:VCALENDAR