BEGIN:VCALENDAR
VERSION:2.0
PRODID:-//EndoIDF - ECPv6.2.0.1//NONSGML v1.0//EN
CALSCALE:GREGORIAN
METHOD:PUBLISH
X-ORIGINAL-URL:https://www.endo-idf.fr
X-WR-CALDESC:évènements pour EndoIDF
REFRESH-INTERVAL;VALUE=DURATION:PT1H
X-Robots-Tag:noindex
X-PUBLISHED-TTL:PT1H
BEGIN:VTIMEZONE
TZID:Europe/Paris
BEGIN:DAYLIGHT
TZOFFSETFROM:+0100
TZOFFSETTO:+0200
TZNAME:CEST
DTSTART:20240331T010000
END:DAYLIGHT
BEGIN:STANDARD
TZOFFSETFROM:+0200
TZOFFSETTO:+0100
TZNAME:CET
DTSTART:20241027T010000
END:STANDARD
END:VTIMEZONE
BEGIN:VEVENT
DTSTART;VALUE=DATE:20240606
DTEND;VALUE=DATE:20240608
DTSTAMP:20260424T143504
CREATED:20240214T102346Z
LAST-MODIFIED:20240530T161124Z
UID:122015-1717632000-1717804799@www.endo-idf.fr
SUMMARY:Assises Nationales de Gynécologie
DESCRIPTION:[vc_row][vc_column][vc_column_text uncode_shortcode_id=”598460″]9ème Assises Nationales de Gynécologie 6 et 7 juin 2024 \nPalais de la bourse de Lyon \n Le programme passe en revue les principaux aspects\nde la gynécologie\, avec des thèmes centrés sur :\n• La pratique de la spécialité : pathologies endocriniennes\net désir de grossesse\, prise en charge de l’infertilité par le\ngynécologue médical hors AMP\, traitement hormonal de la\nménopause\,\n• Des innovations prometteuses à court et moyen terme :\ncontraception de demain\, progrès diagnostiques et\nthérapeutiques dans l’endométriose\, futur des progestatifs\, des vaccins ARN en oncologie et des traitements non hormonaux\ndes bouffées de chaleur\n• Une conférence plénière consacrée aux enfants nés du don de gamètes\,\n• Et une session des interne\n[/vc_column_text][/vc_column][/vc_row]
URL:https://www.endo-idf.fr/evenement/assises-nationales-de-gynecologie/
LOCATION:Palais de la Bourse de Lyon\, Pl de la Bourse\, Lyon\, 69002\, France
CATEGORIES:Evénement Pro,Filière EndoSud IDF
ATTACH;FMTTYPE=image/jpeg:https://www.endo-idf.fr/wp-content/uploads/2024/02/ANG-2024.jpg
END:VEVENT
BEGIN:VEVENT
DTSTART;TZID=Europe/Paris:20240607T090000
DTEND;TZID=Europe/Paris:20240607T103000
DTSTAMP:20260424T143504
CREATED:20240517T135045Z
LAST-MODIFIED:20240517T135045Z
UID:122084-1717750800-1717756200@www.endo-idf.fr
SUMMARY:Réunion de concertation pluridisciplinaire (RCP)
DESCRIPTION:Réunion de concertation pluridisciplinaire (RCP) de la Clinique de l’Estrée  \n\nPour participer à cette RCP ou pour toute demande d’information\, vous pouvez contacter :\nAnne CONAN-FRAYSSE : aconanfraysse@hopital-dcss.org
URL:https://www.endo-idf.fr/evenement/reunion-de-concertation-pluridisciplinaire-rcp-51/
LOCATION:Hôpital La Pitié-Salpêtrière\, 47-83 boulevard de l'Hôpital\, PARIS\, 75012\, France
CATEGORIES:Filière Endo Nord-Est,RCP
ATTACH;FMTTYPE=image/jpeg:https://www.endo-idf.fr/wp-content/uploads/2023/12/RCP-img-event.jpg
END:VEVENT
END:VCALENDAR