BEGIN:VCALENDAR
VERSION:2.0
PRODID:-//EndoIDF - ECPv6.2.0.1//NONSGML v1.0//EN
CALSCALE:GREGORIAN
METHOD:PUBLISH
X-ORIGINAL-URL:https://www.endo-idf.fr
X-WR-CALDESC:évènements pour EndoIDF
REFRESH-INTERVAL;VALUE=DURATION:PT1H
X-Robots-Tag:noindex
X-PUBLISHED-TTL:PT1H
BEGIN:VTIMEZONE
TZID:Europe/Paris
BEGIN:DAYLIGHT
TZOFFSETFROM:+0100
TZOFFSETTO:+0200
TZNAME:CEST
DTSTART:20240331T010000
END:DAYLIGHT
BEGIN:STANDARD
TZOFFSETFROM:+0200
TZOFFSETTO:+0100
TZNAME:CET
DTSTART:20241027T010000
END:STANDARD
END:VTIMEZONE
BEGIN:VEVENT
DTSTART;TZID=Europe/Paris:20240402T190000
DTEND;TZID=Europe/Paris:20240402T210000
DTSTAMP:20260424T175241
CREATED:20240205T101053Z
LAST-MODIFIED:20240206T210230Z
UID:121811-1712084400-1712091600@www.endo-idf.fr
SUMMARY:Soirée de présentation de la filière Endo Nord-Est IDF - Sud Est francilien
DESCRIPTION:[vc_row][vc_column width=”1/1″][vc_column_text uncode_shortcode_id=”205746″]Nous avons le plaisir de vous inviter à une soirée de présentation de la filière Endo Nord-est IDF au Pôle Médical de Sénart à Lieusaint (77)\, à partir de 19h. \nCe sera également l’occasion de rencontrer les professionnels.les de santé de votre territoire et d’échanger sur vos pratiques. \nRadiologues\, chirurgiens\, gynécologues\, experts.tes en endométriose et membres de la filière\, seront présents.tes. \nInscription : \nAnne Conan-Fraysse\nCoordinatrice endo Nord-Est IDF\nfiliere.nord.est@endo-idf.fr[/vc_column_text][/vc_column][/vc_row]
URL:https://www.endo-idf.fr/evenement/soiree-presentation-filiere-et-rencontre-interprofessionnelle-du-sud-est-francilien/
LOCATION:Pôle Médical de Sénart\, 18 Trait d'Union\, Lieusaint\, 77127\, France
CATEGORIES:Filière Endo Nord-Est
END:VEVENT
BEGIN:VEVENT
DTSTART;TZID=Europe/Paris:20240402T190000
DTEND;TZID=Europe/Paris:20240402T210000
DTSTAMP:20260424T175241
CREATED:20240326T105733Z
LAST-MODIFIED:20240326T142615Z
UID:122250-1712084400-1712091600@www.endo-idf.fr
SUMMARY:Webinaire : Présentation des projets de recherche soutenues par la Fondation de Recherche sur l'Endométriose
DESCRIPTION:[vc_row][vc_column width=”1/1″][vc_column_text uncode_shortcode_id=”123784″]La Fondation Recherche Endométriose (FRE)\, créée en 2021 avec l’association de patientes ENDOmind et sous l’égide de la Fondation pour la Recherche Médicale\, a pour mission d’accélérer la recherche sur l’endométriose. Dans le cadre de cette mission\, un des objectifs majeurs de la Fondation est de soutenir financièrement des projets de recherche fondamentale et clinique portés par des équipes françaises de recherche publique. \nSuite à l’appel à projets 2023\, le 3ème lancé par la FRE\, 5 projets de recherche et 1 stage à l’étranger reçoivent un soutien de la Fondation\, pour un montant total de 161 000€. \nPour découvrir ces projets\, la FRE vous donne rendez-vous  : le 2 avril 2024 à partir de 19h\, en visio\, pour une présentation des projets de recherche par les chercheurs et le CCPA (Comité Consultatif Patientes et Aidants). \n[/vc_column_text][/vc_column][/vc_row][vc_row][vc_column width=”1/3″][/vc_column][vc_column width=”1/3″][vc_button border_width=”0″ link=”url:https%3A%2F%2Fwww.fondation-endometriose.org%2Fpresentation-projets-recherche-2023%2F” uncode_shortcode_id=”898943″]lien d’inscription [/vc_button][/vc_column][vc_column width=”1/3″][/vc_column][/vc_row]
URL:https://www.endo-idf.fr/evenement/webinaire-presentation-des-projets-de-recherche-soutenues-par-la-fondation-de-recherche-sur-lendometriose/
ATTACH;FMTTYPE=image/png:https://www.endo-idf.fr/wp-content/uploads/2024/03/photo-fre-appel-a-projet.png
END:VEVENT
END:VCALENDAR