BEGIN:VCALENDAR
VERSION:2.0
PRODID:-//EndoIDF - ECPv6.2.0.1//NONSGML v1.0//EN
CALSCALE:GREGORIAN
METHOD:PUBLISH
X-ORIGINAL-URL:https://www.endo-idf.fr
X-WR-CALDESC:évènements pour EndoIDF
REFRESH-INTERVAL;VALUE=DURATION:PT1H
X-Robots-Tag:noindex
X-PUBLISHED-TTL:PT1H
BEGIN:VTIMEZONE
TZID:Europe/Paris
BEGIN:DAYLIGHT
TZOFFSETFROM:+0100
TZOFFSETTO:+0200
TZNAME:CEST
DTSTART:20230326T010000
END:DAYLIGHT
BEGIN:STANDARD
TZOFFSETFROM:+0200
TZOFFSETTO:+0100
TZNAME:CET
DTSTART:20231029T010000
END:STANDARD
END:VTIMEZONE
BEGIN:VEVENT
DTSTART;TZID=Europe/Paris:20231207T190000
DTEND;TZID=Europe/Paris:20231207T210000
DTSTAMP:20260425T001528
CREATED:20231129T160922Z
LAST-MODIFIED:20231220T111048Z
UID:120497-1701975600-1701982800@www.endo-idf.fr
SUMMARY:Réunion de Concertation Pluridisciplinaire - RCP
DESCRIPTION:Réunion de concertation pluridisciplinaire (RCP) en visioconférence de la filière EndoIDF Centre-Ouest.
URL:https://www.endo-idf.fr/evenement/rcp-reunion-de-concertation-pluridisciplinaire/
LOCATION:Hopital Foch
CATEGORIES:Filière Endo Centre-Ouest,RCP
ATTACH;FMTTYPE=image/jpeg:https://www.endo-idf.fr/wp-content/uploads/2023/11/rcp-image-OK-scaled.jpg
ORGANIZER;CN="Fili%C3%A8re%20Endo%20Centre%20Ouest":MAILTO:filiere.centre.ouest@endo-idf.fr
END:VEVENT
END:VCALENDAR