BEGIN:VCALENDAR
VERSION:2.0
PRODID:-//EndoIDF - ECPv6.2.0.1//NONSGML v1.0//EN
CALSCALE:GREGORIAN
METHOD:PUBLISH
X-ORIGINAL-URL:https://www.endo-idf.fr
X-WR-CALDESC:évènements pour EndoIDF
REFRESH-INTERVAL;VALUE=DURATION:PT1H
X-Robots-Tag:noindex
X-PUBLISHED-TTL:PT1H
BEGIN:VTIMEZONE
TZID:Europe/Paris
BEGIN:DAYLIGHT
TZOFFSETFROM:+0100
TZOFFSETTO:+0200
TZNAME:CEST
DTSTART:20230326T010000
END:DAYLIGHT
BEGIN:STANDARD
TZOFFSETFROM:+0200
TZOFFSETTO:+0100
TZNAME:CET
DTSTART:20231029T010000
END:STANDARD
END:VTIMEZONE
BEGIN:VEVENT
DTSTART;TZID=Europe/Paris:20231012T183000
DTEND;TZID=Europe/Paris:20231012T213000
DTSTAMP:20260425T033654
CREATED:20230926T101337Z
LAST-MODIFIED:20230926T101337Z
UID:120032-1697135400-1697146200@www.endo-idf.fr
SUMMARY:RCP Hôpital Saint Joseph
DESCRIPTION:RCP centre de l’endométriose de l’hôpital Paris Saint Joseph \n 
URL:https://www.endo-idf.fr/evenement/rcp-hopital-saint-joseph/
LOCATION:Hôpital Paris Saint-Joseph\, 185 Rue Raymond Losserand\, Paris\, 75014\, France
ATTACH;FMTTYPE=image/png:https://www.endo-idf.fr/wp-content/uploads/2023/09/illustration.png
ORGANIZER;CN="secr%C3%A9tariat%20du%20centre%20de%20l%27endom%C3%A9triose":MAILTO:resendo@ghpsj.fr
END:VEVENT
END:VCALENDAR